BEGIN:VCALENDAR
VERSION:2.0
PRODID:-//ChamberMaster//Event Calendar 2.0//EN
METHOD:PUBLISH
X-PUBLISHED-TTL:P3D
REFRESH-INTERVAL:P3D
CALSCALE:GREGORIAN
BEGIN:VEVENT
DTSTART:20200123T180000Z
DTEND:20200123T203000Z
X-MICROSOFT-CDO-ALLDAYEVENT:FALSE
SUMMARY:Workshop - Build Your Marketing Toolkit
DESCRIPTION:Roane Chamber Workshop Series - Build Your Marketing Toolkit\n\nPresenter: Mike Coleman\, followed by Tori May & Kaley Hill of the Roane County Chamber of Commerce\n\n\n\nIn this seminar\, you will discover what you need to know to experience exponential business growth over the next 6 to 12 months\, blending "old school" strategies with new technologies that are working today for thousands of businesses.\n\n\n\nThe information will be presented in a fun and engaging way...not holding anything back.  (And I promise not to overwhelm you with "technobabble.")\n\n\n\nYou will discover:\n\n\n	The marketing triangle\;\n	The most important asset in your business (and it's not what you think)\;\n	How to use email marketing to grow your business\;\n	Social media strategies proven to get results...instead of just Likes\;\n	Copywriting and content marketing strategies\;\n	How to creat a sales funnel (and why you need one).\n\nThis is a simple step-by-step approach that GETS RESULTS!\n\n\n\nAttend our FREE seminar and find hidden opportunities you didn't know existed and walk away with strategies you can implement immediately!  If you know how to use your smartphone and can turn on a computer\, you can do this.\n\n\n\nToolkit Questions? Call Mike Coleman at 615-308-8078 or visit mikecoleman.net\n\n\n\nSpace is limited.   Register Online to reserve your spot now!\n\nor reply to ALutz@RoaneAlliance.org or call 865-376-5572.
X-ALT-DESC;FMTTYPE=text/html:<p>Roane Chamber Workshop Series - Build Your Marketing Toolkit</p>\n\n<p>Presenter: Mike Coleman\, followed by Tori May &amp\; Kaley Hill of the Roane County Chamber of Commerce<br />\n<br />\nIn this seminar\, you will discover what you need to know to experience exponential business growth over the next 6 to 12 months\, blending &quot\;old school&quot\; strategies with new technologies that are working today for thousands of businesses.<br />\n<br />\nThe information will be presented in a fun and engaging way...not holding anything back.&nbsp\; (And I promise not to overwhelm you with &quot\;technobabble.&quot\;)<br />\n<br />\nYou will discover:</p>\n\n<ul>\n	<li>The marketing triangle\;</li>\n	<li>The most important asset in your business (<em>and it&#39\;s not</em> <em>what you think</em>)\;</li>\n	<li>How to use email marketing to grow your business\;</li>\n	<li>Social media strategies proven to get results...instead of just Likes\;</li>\n	<li>Copywriting and content marketing strategies\;</li>\n	<li>How to creat a sales funnel (<em>and why you need one</em>).</li>\n</ul>\nThis is <strong>a simple step-by-step approach that GETS RESULTS!</strong><br />\n<br />\nAttend our FREE seminar and find hidden opportunities you didn&#39\;t know existed and walk away with strategies you can implement immediately!&nbsp\; <u>If you know how to use your smartphone and can turn on a computer\, you can do this.</u><br />\n<br />\nToolkit Questions? Call Mike Coleman at 615-308-8078 or visit mikecoleman.net<br />\n<br />\nSpace is limited.&nbsp\;&nbsp\; Register Online to reserve your spot now!<br />\nor reply to ALutz@RoaneAlliance.org or call 865-376-5572.
LOCATION:The Roane Alliance 1209 N. Kentucky St. Kingston\, TN 37763
UID:e.2172.8709
SEQUENCE:3
DTSTAMP:20260424T215028Z
URL:https://business.roanechamber.com/events/details/workshop-build-your-marketing-toolkit-8709
END:VEVENT

END:VCALENDAR
