BEGIN:VCALENDAR
VERSION:2.0
PRODID:-//ChamberMaster//Event Calendar 2.0//EN
METHOD:PUBLISH
X-PUBLISHED-TTL:P3D
REFRESH-INTERVAL:P3D
CALSCALE:GREGORIAN
BEGIN:VEVENT
DTSTART:20220408T130000Z
DTEND:20220408T203000Z
X-MICROSOFT-CDO-ALLDAYEVENT:FALSE
SUMMARY:Word Level 2
DESCRIPTION:Word Level 2\n\nCourse Objectives:\n\n \n\nIn this course\, you will learn to create and modify complex documents and use tools that allow you to customize those documents.\n\n \n\nYou will:\n\n \n\nOrganize content using tables and charts.\n\nCustomize formats using styles and themes.\n\nInsert content using quick parts.\n\nUse templates to automate document formatting.\n\nControl the flow of a document.\n\nSimplify and manage long documents.\n\nUse mail merge to create letters\, envelopes\, and labels.\n\nCourse Content\n\n \n\nLesson 1: Organizing Content Using Tables and Charts\n\n \n\nLesson 2: Customizing Formats Using Styles and Themes\n\n \n\nLesson 3: Inserting Content Using Quick Parts\n\n \n\nLesson 4: Using Templates to Automate Document Formatting\n\n \n\nLesson 5: Controlling the Flow of a Document\n\n \n\nLesson 6: Simplifying and Managing Long Documents\n\n \n\nLesson 7: Using Mail Merge to Create Letters\, Envelopes\, and Labels\n\n \n\nDates    4/08/2022 - 4/28/2022  \n\nTimes    9:00 AM - 4:30 PM  \n\n# of Hours           7 \n\nLocation               RSCC Oak Ridge \n\nFee(s)\n\n\n\n$ 169     Registration and book
X-ALT-DESC;FMTTYPE=text/html:<span style="font-size:14px\;"><strong>Word Level 2</strong><br />\nCourse Objectives:<br />\n&nbsp\;<br />\nIn this course\, you will learn to create and modify complex documents and use tools that allow you to customize those documents.<br />\n&nbsp\;<br />\nYou will:<br />\n&nbsp\;<br />\nOrganize content using tables and charts.<br />\nCustomize formats using styles and themes.<br />\nInsert content using quick parts.<br />\nUse templates to automate document formatting.<br />\nControl the flow of a document.<br />\nSimplify and manage long documents.<br />\nUse mail merge to create letters\, envelopes\, and labels.<br />\nCourse Content<br />\n&nbsp\;<br />\nLesson 1: Organizing Content Using Tables and Charts<br />\n&nbsp\;<br />\nLesson 2: Customizing Formats Using Styles and Themes<br />\n&nbsp\;<br />\nLesson 3: Inserting Content Using Quick Parts<br />\n&nbsp\;<br />\nLesson 4: Using Templates to Automate Document Formatting<br />\n&nbsp\;<br />\nLesson 5: Controlling the Flow of a Document<br />\n&nbsp\;<br />\nLesson 6: Simplifying and Managing Long Documents<br />\n&nbsp\;<br />\nLesson 7: Using Mail Merge to Create Letters\, Envelopes\, and Labels<br />\n&nbsp\;<br />\n<strong>Dates&nbsp\;&nbsp\;&nbsp\; 4/08/2022 - 4/28/2022&nbsp\;&nbsp\;</strong><br />\n<strong>Times&nbsp\;&nbsp\;&nbsp\; 9:00 AM - 4:30 PM&nbsp\;&nbsp\;</strong><br />\n<strong># of Hours&nbsp\;&nbsp\;&nbsp\;&nbsp\;&nbsp\;&nbsp\;&nbsp\;&nbsp\;&nbsp\;&nbsp\; 7&nbsp\;</strong><br />\n<strong>Location&nbsp\;&nbsp\;&nbsp\;&nbsp\;&nbsp\;&nbsp\;&nbsp\;&nbsp\;&nbsp\;&nbsp\;&nbsp\;&nbsp\;&nbsp\;&nbsp\; RSCC Oak Ridge&nbsp\;</strong><br />\n<strong>Fee(s)</strong><br />\n<br />\n<strong>$ 169&nbsp\;&nbsp\;&nbsp\;&nbsp\; Registration and book</strong><br />\n&nbsp\;</span>
LOCATION:Roane State Community College Oak Ridge Campus 701 Briarcliff Ave. Oak Ridge\, TN 37830
UID:e.2172.10607
SEQUENCE:3
DTSTAMP:20260423T131120Z
URL:https://business.roanechamber.com/events/details/word-level-2-10607
END:VEVENT

END:VCALENDAR
