BEGIN:VCALENDAR
VERSION:2.0
PRODID:-//ChamberMaster//Event Calendar 2.0//EN
METHOD:PUBLISH
X-PUBLISHED-TTL:P3D
REFRESH-INTERVAL:P3D
CALSCALE:GREGORIAN
BEGIN:VEVENT
DTSTART:20220924T230000Z
DTEND:20220925T010000Z
X-MICROSOFT-CDO-ALLDAYEVENT:FALSE
SUMMARY:Wilde at Heart presented by Roane County Children's Theatre
DESCRIPTION:Wilde at Heart \n\nSeptember 23\, 2022 - 7:00 pm\n\nSeptember 24\, 2022 - 7:00 pm \n\nRoane County Children's Theatre presents Wilde at Heart by Jon Boustead.\n\nOscar hates stories\, but when he disturbs Once\, Upon\, and A Time\, his world is thrown upside down as he learns about courage\, greed\, and forgiveness. Join Oscar and his story-telling friends for this adaptation of Oscar Wilde's The Star Child.\n\nPerformances are Friday\, September 23rd and Saturday\, September 24th. Doors open at 6:30 and the show starts at 7:00 pm.\n\nAdmission is FREE. All donations will benefit future Roane County Children's Theatre productions and events.\n\n\n\nConcessions: cash only. Bottled water\, various sodas\, popcorn\, coffee\, chips\, and candy. All items $1 or $2 each.
X-ALT-DESC;FMTTYPE=text/html:<h1 style="border: 0px\; margin: 15px 0px 20px\; padding: 0px\; font-size: 26px\; color: rgb(74\, 74\, 74)\; font-family: Raleway\, sans-serif\;">Wilde at Heart&nbsp\;</h1>\n\n<p style="border: 0px\; margin: 0px 0px 20px\; padding: 0px\; font-size: 15px\; color: rgb(74\, 74\, 74)\; font-family: &quot\;Open Sans&quot\;\, sans-serif\;">September 23\, 2022&nbsp\;- 7:00 pm<br />\nSeptember 24\, 2022 - 7:00 pm&nbsp\;</p>\n\n<p style="border: 0px\; margin: 0px 0px 20px\; padding: 0px\; font-size: 15px\; color: rgb(74\, 74\, 74)\; font-family: &quot\;Open Sans&quot\;\, sans-serif\;">Roane County Children&rsquo\;s Theatre presents&nbsp\;<em style="border: 0px\; margin: 0px\; padding: 0px\;">Wilde at Heart</em>&nbsp\;by Jon Boustead.</p>\n\n<p style="border: 0px\; margin: 0px 0px 20px\; padding: 0px\; font-size: 15px\; color: rgb(74\, 74\, 74)\; font-family: &quot\;Open Sans&quot\;\, sans-serif\;">Oscar hates stories\, but when he disturbs Once\, Upon\, and A Time\, his world is thrown upside down as he learns about courage\, greed\, and forgiveness. Join Oscar and his story-telling friends for this adaptation of Oscar Wilde&rsquo\;s&nbsp\;<em style="border: 0px\; margin: 0px\; padding: 0px\;">The Star Child</em>.</p>\n\n<p style="border: 0px\; margin: 0px 0px 20px\; padding: 0px\; font-size: 15px\; color: rgb(74\, 74\, 74)\; font-family: &quot\;Open Sans&quot\;\, sans-serif\;">Performances are Friday\, September 23rd and Saturday\, September 24th. Doors open at 6:30 and the show starts at 7:00 pm.</p>\n\n<p style="border: 0px\; margin: 0px 0px 20px\; padding: 0px\; font-size: 15px\; color: rgb(74\, 74\, 74)\; font-family: &quot\;Open Sans&quot\;\, sans-serif\;">Admission is FREE. All donations will benefit future Roane County Children&rsquo\;s Theatre productions and events.<br />\n<br />\nConcessions: cash only. Bottled water\, various sodas\, popcorn\, coffee\, chips\, and candy. All items $1 or $2 each.</p>\n
LOCATION:Princess Theatre 421 N. Roane St. Harriman\, TN 37748
UID:e.2172.11556
SEQUENCE:3
DTSTAMP:20260423T200541Z
URL:https://business.roanechamber.com/events/details/wilde-at-heart-presented-by-roane-county-children-s-theatre-09-24-2022-11556
END:VEVENT

END:VCALENDAR
