BEGIN:VCALENDAR
VERSION:2.0
PRODID:-//ChamberMaster//Event Calendar 2.0//EN
METHOD:PUBLISH
X-PUBLISHED-TTL:P3D
REFRESH-INTERVAL:P3D
CALSCALE:GREGORIAN
BEGIN:VEVENT
DTSTART:20220911T210000Z
DTEND:20220912T000000Z
X-MICROSOFT-CDO-ALLDAYEVENT:FALSE
SUMMARY:Victory Baptist Church - Church & Dinner in the Park - A Church with Heart
DESCRIPTION:Join us as we take a break from our usual Sunday Service and meet in the park to hear life-changing stories\, eat good food and have lots of fun together. Come and join us!   Food available at 5 pm until gone. Worship service starts at 6:30 pm.\n\n\n\nGrilled burgers\, hot dogs and bar b q sandwiches with chips\, dessert and a drink!\n\n\n\nEVERYONE IS WELCOMED TO JOIN!\n\n\n\nKids can play in the park area\, basketball\, volleyball and cornhole for all.
X-ALT-DESC;FMTTYPE=text/html:<span style="letter-spacing:-0.05pt\;"><span style="color:black\;"><span style="font-family:proxima-nova\,serif\;"><span style="font-size:15pt\;">Join us as we take a break from our usual Sunday Service and meet in the park to hear life-changing stories\, eat good food and have lots of fun together. Come and join us!&nbsp\;&nbsp\;&nbsp\;Food available at 5 pm until gone. Worship service starts at 6:30 pm.</span></span></span></span><br />\n<br />\nGrilled burgers\, hot dogs and bar b q sandwiches with chips\, dessert and a drink!<br />\n<br />\nEVERYONE IS WELCOMED TO JOIN!<br />\n<br />\nKids can play in the park area\, basketball\, volleyball and cornhole for all.
LOCATION:Large Pavilion at the Kingston City Park
UID:e.2172.11324
SEQUENCE:3
DTSTAMP:20260423T200641Z
URL:https://business.roanechamber.com/events/details/victory-baptist-church-church-dinner-in-the-park-a-church-with-heart-11324
END:VEVENT

END:VCALENDAR
