BEGIN:VCALENDAR
VERSION:2.0
PRODID:-//ChamberMaster//Event Calendar 2.0//EN
METHOD:PUBLISH
X-PUBLISHED-TTL:P3D
REFRESH-INTERVAL:P3D
CALSCALE:GREGORIAN
BEGIN:VEVENT
DTSTART:20220929T220000Z
DTEND:20221001T010000Z
X-MICROSOFT-CDO-ALLDAYEVENT:FALSE
SUMMARY:Twisted Sisters Hocus Pocus 2 Debut Paint Party
DESCRIPTION:Twisted Sisters Hocus Pocus 2 Debut Paint Party!\n\n\n\nCome join us for a night of Tricks and Treats.  We will be hosting our HOCUS POCUS 2 DEBUT on September 29th at 6 pm.\n\n\n\nCome if you dare for some spooktacular prizes and yummy\, mummy treats!  \n\n\n\nWe will have you howling at the moon with laughter by the end of the night!  \n\n\n\nSpace is limited so call us today to reserve your seat or come by and land your. brooms at our shop to reserve your spot!!
X-ALT-DESC;FMTTYPE=text/html:Twisted Sisters Hocus Pocus 2 Debut Paint Party!<br />\n<br />\nCome join us for a night of Tricks and Treats. &nbsp\;We will be hosting our HOCUS POCUS 2 DEBUT on September 29th at 6 pm.<br />\n<br />\nCome if you dare for some spooktacular prizes and yummy\, mummy treats! &nbsp\;<br />\n<br />\nWe will have you howling at the moon with laughter by the end of the night!&nbsp\;&nbsp\;<br />\n<br />\nSpace is limited so call us today to reserve your seat or come by and land your. brooms at our shop to reserve your spot!!
LOCATION:Twisted Sisters TN 226 N. Kentucky St. Kingston\, TN 37763
UID:e.2172.12704
SEQUENCE:3
DTSTAMP:20260423T200101Z
URL:https://business.roanechamber.com/events/details/twisted-sisters-hocus-pocus-2-debut-paint-party-12704
END:VEVENT

END:VCALENDAR
