BEGIN:VCALENDAR
VERSION:2.0
PRODID:-//ChamberMaster//Event Calendar 2.0//EN
METHOD:PUBLISH
X-PUBLISHED-TTL:P3D
REFRESH-INTERVAL:P3D
CALSCALE:GREGORIAN
BEGIN:VEVENT
DTSTART:20221030T220000Z
DTEND:20221031T000000Z
X-MICROSOFT-CDO-ALLDAYEVENT:FALSE
SUMMARY:Trunk or Treat at Fort Southwest Point hosted by Morrison Hill Christian Church
DESCRIPTION:Trunk or Treat at Fort Southwest Point\n\n\n\nHosted by Morrison Hill Christian Church\n\n\n\nSunday\, October 30\, 2022 from 6 pm - 8 pm.\n\n\n\nThere will be free food\, candy\, games\, a hayride and so much more!
X-ALT-DESC;FMTTYPE=text/html:Trunk or Treat at Fort Southwest Point<br />\n<br />\nHosted by Morrison Hill Christian Church<br />\n<br />\nSunday\, October 30\, 2022 from 6 pm - 8 pm.<br />\n<br />\nThere will be free food\, candy\, games\, a hayride and so much more!<br />\n<br />\n&nbsp\;
LOCATION:Fort Southwest Point 1225 S. Kentucky St. Kingston\, TN 37763
UID:e.2172.11674
SEQUENCE:3
DTSTAMP:20260423T233328Z
URL:https://business.roanechamber.com/events/details/trunk-or-treat-at-fort-southwest-point-hosted-by-morrison-hill-christian-church-11674
END:VEVENT

END:VCALENDAR
