BEGIN:VCALENDAR
VERSION:2.0
PRODID:-//ChamberMaster//Event Calendar 2.0//EN
METHOD:PUBLISH
X-PUBLISHED-TTL:P3D
REFRESH-INTERVAL:P3D
CALSCALE:GREGORIAN
BEGIN:VEVENT
DTSTART:20220905T160000Z
DTEND:20220905T173000Z
X-MICROSOFT-CDO-ALLDAYEVENT:FALSE
SUMMARY:The Roane County Democrats Labor Day Picnic
DESCRIPTION:The Roane County Democrats invite all East Tennessee Democrats to join us for our Labor Day Picnic.\n\n\n\nMonday\, September 5\, 2022 - Noon - 1:30 pm\n\n\n\nRoane County Park - Shelter #1\n\n	Full Service BBQ with all the fixings\n	$15.00 donation recommended\n	Candidate speeches\n	Democrat swag\n	T-Shirts\n	Fellowship\n	Rain or Shine\n	Vegetarian friendly
X-ALT-DESC;FMTTYPE=text/html:The Roane County Democrats invite all East Tennessee Democrats to join us for our Labor Day Picnic.<br />\n<br />\nMonday\, September 5\, 2022 - Noon - 1:30 pm<br />\n<br />\nRoane County Park - Shelter #1\n<ul>\n	<li>Full Service BBQ with all the fixings</li>\n	<li>$15.00 donation recommended</li>\n	<li>Candidate speeches</li>\n	<li>Democrat swag</li>\n	<li>T-Shirts</li>\n	<li>Fellowship</li>\n	<li>Rain or Shine</li>\n	<li>Vegetarian friendly</li>\n</ul>\n
LOCATION:Roane County Park Shelter #1 Harriman\, TN 37748
UID:e.2172.11327
SEQUENCE:3
DTSTAMP:20260423T200112Z
URL:https://business.roanechamber.com/events/details/the-roane-county-democrats-labor-day-picnic-11327
END:VEVENT

END:VCALENDAR
