BEGIN:VCALENDAR
VERSION:2.0
PRODID:-//ChamberMaster//Event Calendar 2.0//EN
METHOD:PUBLISH
X-PUBLISHED-TTL:P3D
REFRESH-INTERVAL:P3D
CALSCALE:GREGORIAN
BEGIN:VEVENT
DTSTART:20220918T000000Z
DTEND:20220918T030000Z
X-MICROSOFT-CDO-ALLDAYEVENT:FALSE
SUMMARY:The Long Road at Diamond Tap Tavern
DESCRIPTION:The Long Road at Diamond Tap Tavern\n\n \n\nHead west to see The Long Road rocking it at the Diamond Tap Tavern\n\n\n\nThe Long Road is a four-piece Knoxville\, TN based band playing 60'2\, 70's and Southern Rock\, Blues and even a little Country.\n\n\n\nThe Diamond Tap Tavern is a full-service sport bar and restaurant for the entire family\, located in downtown Rockwood\, TN.  We also offer a large private room for parties and events.
X-ALT-DESC;FMTTYPE=text/html:The Long Road at Diamond Tap Tavern<br />\n&nbsp\;<br />\nHead west to see The Long Road rocking it at the Diamond Tap Tavern<br />\n<br />\nThe Long Road is a four-piece Knoxville\, TN based band playing 60&#39\;2\, 70&#39\;s and Southern Rock\, Blues and even a little Country.<br />\n<br />\nThe Diamond Tap Tavern is a full-service sport bar and restaurant for the entire family\, located in downtown Rockwood\, TN. &nbsp\;We also offer a large private room for parties and events.&nbsp\;
LOCATION:Diamond Tap Tavern 215 W. Rockwood St. Rockwood\, TN 37854
UID:e.2172.11244
SEQUENCE:3
DTSTAMP:20260423T214343Z
URL:https://business.roanechamber.com/events/details/the-long-road-at-diamond-tap-tavern-11244
END:VEVENT

END:VCALENDAR
