BEGIN:VCALENDAR
VERSION:2.0
PRODID:-//ChamberMaster//Event Calendar 2.0//EN
METHOD:PUBLISH
X-PUBLISHED-TTL:P3D
REFRESH-INTERVAL:P3D
CALSCALE:GREGORIAN
BEGIN:VEVENT
DTSTART:20211104T180000Z
DTEND:20211104T200000Z
X-MICROSOFT-CDO-ALLDAYEVENT:FALSE
SUMMARY:The City of Kingston Job Fair
DESCRIPTION:The City of Kingston Job Fair\n\n\n\nPlease join us to find out about city government positions.\n\n\n\nOpen Positions To Be Interviewed\n\n	Laborer/Sports Coordinator\n	Utility Billing Clerk\n	Fire Fighter\n	Part Time Public Works Laborer\n	Part Time Librarian\n\nThe Police Chief is seeking individuals who would be interested in a career in Law Enforcement.  He needs Reserve Officers who could advance to part -time and full-time with a Police Academy Certification.  Please join us for more information.
X-ALT-DESC;FMTTYPE=text/html:The City of Kingston Job Fair<br />\n<br />\nPlease join us to find out about city government positions.<br />\n<br />\n<u>Open Positions To Be Interviewed</u>\n<ul>\n	<li>Laborer/Sports Coordinator</li>\n	<li>Utility Billing Clerk</li>\n	<li>Fire Fighter</li>\n	<li>Part Time Public Works Laborer</li>\n	<li>Part Time Librarian</li>\n</ul>\nThe Police Chief is seeking individuals who would be interested in a career in Law Enforcement. &nbsp\;He needs Reserve Officers who could advance to&nbsp\;part -time and full-time with a Police Academy Certification. &nbsp\;Please join us for more information.
LOCATION:Kingston Community Center 201 Patton Ferry Road Kingston\, TN 37763
UID:e.2172.10393
SEQUENCE:3
DTSTAMP:20260423T082257Z
URL:https://business.roanechamber.com/events/details/the-city-of-kingston-job-fair-10393
END:VEVENT

END:VCALENDAR
