BEGIN:VCALENDAR
VERSION:2.0
PRODID:-//ChamberMaster//Event Calendar 2.0//EN
METHOD:PUBLISH
X-PUBLISHED-TTL:P3D
REFRESH-INTERVAL:P3D
CALSCALE:GREGORIAN
BEGIN:VEVENT
DTSTART:20220603T210000Z
DTEND:20220604T000000Z
X-MICROSOFT-CDO-ALLDAYEVENT:FALSE
SUMMARY:Summer Nights on the Lawn - Presented by The Jim Henry Event Center
DESCRIPTION:The Jim Henry Event Center Presents Summer Nights on the Lawn\n\nSponsored by Title One\, Inc\, Patterson's Home Appliances\, Glenda Johnson of Coldwell Banker Jim Henry & Associates and Legay Estate Sales.\n\n\n\nVendors\n\nFood Trucks - Tap Truck Knoxville\, MoCo Brewing Company\, Lilly Pad Brewing\, CJ's Tacos and more!\n\nMusic - "Brand New Box of Matches"\n\nKids Area\n\nFire Pits\n\nAnd so much more!  Come check it out!\n\n\n\nContact Kelsie Loghry today for more vendor information - 865-376-6578
X-ALT-DESC;FMTTYPE=text/html:<p>The Jim Henry Event Center Presents Summer Nights on the Lawn</p>\n\n<p>Sponsored by Title One\, Inc\,&nbsp\;Patterson&#39\;s Home Appliances\, Glenda Johnson of Coldwell Banker Jim Henry &amp\; Associates and Legay Estate Sales.<br />\n<br />\nVendors<br />\nFood Trucks - Tap Truck Knoxville\, MoCo Brewing Company\, Lilly Pad Brewing\, CJ&#39\;s Tacos and more!<br />\nMusic - &quot\;Brand New Box of Matches&quot\;<br />\nKids Area<br />\nFire Pits<br />\nAnd so much more! &nbsp\;Come check it out!<br />\n<br />\nContact Kelsie Loghry today for more vendor information - 865-376-6578<br />\n<br />\n&nbsp\;</p>\n
LOCATION:The Jim Henry Event Center 411 N. 3rd St. Kingston\, TN 37763
UID:e.2172.10589
SEQUENCE:3
DTSTAMP:20260423T163011Z
URL:https://business.roanechamber.com/events/details/summer-nights-on-the-lawn-presented-by-the-jim-henry-event-center-10589
END:VEVENT

END:VCALENDAR
