BEGIN:VCALENDAR
VERSION:2.0
PRODID:-//ChamberMaster//Event Calendar 2.0//EN
METHOD:PUBLISH
X-PUBLISHED-TTL:P3D
REFRESH-INTERVAL:P3D
CALSCALE:GREGORIAN
BEGIN:VEVENT
DTSTART:20220909T210000Z
DTEND:20220910T010000Z
X-MICROSOFT-CDO-ALLDAYEVENT:FALSE
SUMMARY:Summer Nights on the Lawn
DESCRIPTION:Summer Nights on the Lawn\n\n\n\nCome and enjoy live bluegrass and country tunes!  \n\n\n\nBring a lawn chair\; shop from local crafters\; and choose what food truck you'll stop at for supper.   \n\n\n\nThere will also be games and some outdoor activities\, kids area\, so\, bring the whole family!\n\n\n\nCome before the RCHS vs Rockwood football game...eat\, shop...walk to the game...walk back to listen to music and have some dessert.
X-ALT-DESC;FMTTYPE=text/html:Summer Nights on the Lawn<br />\n<br />\nCome and enjoy live bluegrass and country tunes! &nbsp\;<br />\n<br />\nBring a lawn chair\; shop from local crafters\; and choose what food truck you&#39\;ll stop at for supper. &nbsp\;&nbsp\;<br />\n<br />\nThere will also be games and some outdoor activities\, kids area\, so\, bring the whole family!<br />\n<br />\nCome before the RCHS vs Rockwood football game...eat\, shop...walk to the game...walk back to listen to music and have some dessert.
LOCATION:The Jim Henry Event Center 411 N. 3rd St. Kingston\, TN 37763
UID:e.2172.10909
SEQUENCE:3
DTSTAMP:20260423T195931Z
URL:https://business.roanechamber.com/events/details/summer-nights-on-the-lawn-10909
END:VEVENT

END:VCALENDAR
