BEGIN:VCALENDAR
VERSION:2.0
PRODID:-//ChamberMaster//Event Calendar 2.0//EN
METHOD:PUBLISH
X-PUBLISHED-TTL:P3D
REFRESH-INTERVAL:P3D
CALSCALE:GREGORIAN
BEGIN:VEVENT
DTSTART:20220901T220000Z
DTEND:20220902T010000Z
X-MICROSOFT-CDO-ALLDAYEVENT:FALSE
SUMMARY:SHRM Essentials of HR
DESCRIPTION:SHRM Essentials of HR - August 18 - September 8\n\n\n\nThe SHRM Essentials of Human Resources program provides an introductory overview of key HR topics and the fundamental issues surrounding HR to help you effectively approach the challenging issues and everyday situations that you face on the job.\n\n\n\nSHRM Essentials of Human Resources provides foundational HR Knowledge and incorporates components of the SHRM BoCK.  It provides insights into the standards for knowledge\, strategies and competencies required of elective HR professionals around the world.\n\n\n\nSHRM Essentials is ideal for those who are:\n\nNew to HR\n\nSmall business owners\n\nManagers and professionals with HR responsibilities\n\n\n\nThe program covers six key HR topics and provides tools you can immediately put to use in your organization:\n\n	Human Resources - Gain a clear understanding of the HR function\n	Talent Acquisition - Develop important skills for attracting and selecting employees.\n	Total Rewards - Learn the key elements of a total compensation system.\n	Learning and Development - Obtain an understanding of orientation\, development and training.\n	Performance Management - Discover the purpose and process for performance evaluation.\n	Employment Law - Enhance your ability to apply key HR legislation.\n\n* The SHRM Essentials book is included in the cost of the course.
X-ALT-DESC;FMTTYPE=text/html:SHRM Essentials of HR - August 18 - September 8<br />\n<br />\nThe SHRM Essentials of Human Resources program provides an introductory overview of key HR topics and the fundamental issues surrounding HR to help you effectively approach the challenging issues and everyday situations that you face on the job.<br />\n<br />\nSHRM Essentials of Human Resources provides foundational HR Knowledge and incorporates components of the SHRM BoCK. &nbsp\;It provides insights into the standards for knowledge\, strategies and competencies required of elective HR professionals around the world.<br />\n<br />\nSHRM Essentials is ideal for those who are:<br />\nNew to HR<br />\nSmall business owners<br />\nManagers and professionals with HR responsibilities<br />\n<br />\nThe program covers six key HR topics and provides tools you can immediately put to use in your organization:\n<ul>\n	<li>Human Resources - Gain a clear understanding of the HR function</li>\n	<li>Talent Acquisition - Develop important skills for attracting and selecting employees.</li>\n	<li>Total Rewards - Learn the key elements of a total compensation system.</li>\n	<li>Learning and Development - Obtain an understanding of orientation\, development and training.</li>\n	<li>Performance Management - Discover the purpose and process for performance&nbsp\;evaluation.</li>\n	<li>Employment Law - Enhance your ability to apply key HR legislation.</li>\n</ul>\n* The SHRM Essentials book is included in the cost of the course.<br />\n<br />\n&nbsp\;
LOCATION:VIA ZOOM
UID:e.2172.11252
SEQUENCE:3
DTSTAMP:20260423T214444Z
URL:https://business.roanechamber.com/events/details/shrm-essentials-of-hr-09-01-2022-11252
END:VEVENT

END:VCALENDAR
