BEGIN:VCALENDAR
VERSION:2.0
PRODID:-//ChamberMaster//Event Calendar 2.0//EN
METHOD:PUBLISH
X-PUBLISHED-TTL:P3D
REFRESH-INTERVAL:P3D
CALSCALE:GREGORIAN
BEGIN:VEVENT
DTSTART:20220922T220000Z
DTEND:20220923T010000Z
X-MICROSOFT-CDO-ALLDAYEVENT:FALSE
SUMMARY:SHRM CP?SCP Certification Prep
DESCRIPTION:SHRM CP?SCP Certification Prep\n\n\n\nSeptember 22\, 2022 - December 15\, 2022\n\n6 pm - 9 pm\n\n\n\nThis course will prepare you to sit for the SHRM-CP or SCP Certification.\n\n\n\nEarning your SHRM-CP or SHRM-SCP credential makes you a recognized expert and leader in the HR feels - and a valuable asset to your organization\, keeping you and your organization more competitive in today's economy.  This professional distinction sets you apart fro your colleagues\, proving your high level of knowledge and skills.\n\n\n\nHR professionals who implement policies and strategies\, serve as point of contact for staff and stakeholders\, deliver HR services and perform operational HR functions\, should take the SHRM-CP exam.\n\n\n\nSHRM Learning System Materials are included in the price of this course.\n\n\n\n*If you would like your SHRM Learning System materials mailed directly to your home instead of picking them up at a Roane State campus\, there will be an additional charge of $25.00.
X-ALT-DESC;FMTTYPE=text/html:<p>SHRM CP?SCP Certification Prep<br />\n<br />\nSeptember 22\, 2022 - December 15\, 2022<br />\n6 pm - 9 pm<br />\n<br />\nThis course will prepare you to sit for the SHRM-CP or SCP Certification.<br />\n<br />\nEarning your SHRM-CP or SHRM-SCP credential makes you a recognized expert and leader in the HR feels - and a valuable asset to your organization\, keeping you and your organization more competitive in today&#39\;s economy. &nbsp\;This professional distinction sets you apart fro your colleagues\, proving your high level of knowledge and skills.<br />\n<br />\nHR professionals who implement policies and strategies\, serve as point of contact for staff and stakeholders\, deliver HR services and perform operational HR functions\, should take the SHRM-CP exam.<br />\n<br />\nSHRM Learning System Materials are included in the price of this course.<br />\n<br />\n*If you would like your SHRM Learning System materials mailed directly to your home instead of picking them up at a Roane State campus\, there will be an additional charge of $25.00.</p>\n
LOCATION:*This is an instructor led course3 an is being offered virtually via zoom.
UID:e.2172.11255
SEQUENCE:3
DTSTAMP:20260423T195855Z
URL:https://business.roanechamber.com/events/details/shrm-cp-scp-certification-prep-11255
END:VEVENT

END:VCALENDAR
