BEGIN:VCALENDAR
VERSION:2.0
PRODID:-//ChamberMaster//Event Calendar 2.0//EN
METHOD:PUBLISH
X-PUBLISHED-TTL:P3D
REFRESH-INTERVAL:P3D
CALSCALE:GREGORIAN
BEGIN:VEVENT
DTSTART;VALUE=DATE:20211116
DTEND;VALUE=DATE:20211231
TRANSP:TRANSPARENT
X-MICROSOFT-CDO-ALLDAYEVENT:TRUE
SUMMARY:Shop Where Your Heart Is - 2021
DESCRIPTION:One of the more popular campaigns of the Shop Roane program is the annual shopping spree contest that launches in November and runs several weeks leading up to Christmas.  The Chamber understands this is a very important time when local businesses are looking to increase sales while having to compete with online and much larger stores during the holiday shopping season.  This contest encourages customers to visit those participating businesses and shop while there.\n\nThe 2021 Shop Where Your Heart Is contest will officially begin on Monday\, November 16th. Participating businesses will be announced once the contest begins. Shoppers who attend (and shop!) the Jingle & Mingle Market hosted by the Roane Chamber on November 13th and 14th will have the first chance to enter the contest!\n\nThe Roane Chamber hopes everyone will Shop Local this holiday season!  And be sure to visit any (or all) of the participating businesses and enter the Roane Chamber's annual shopping spree contest for a chance to win a minimum of $800!\n\nTo become a participating business\, you must have a store front in Roane County with regular posted business hours.  The cost to participate is $100 per business that will go toward the cash prizes and advertising.  Each participating business will receive entry forms and a box for their store. The Chamber will promote each of the participating businesses on social media\, on the radio and in the Roane County News during the weeks of the contest.\n\nCustomers may enter the contest at any participating business for a chance to win up to $800 in prizes.  Several winners will split the prizes\, depending on the number of participating businesses.\n\nTypically\, winners are drawn during the annual Roane Alliance Christmas Open House\, but due to COVID-19 the 2021 open house will not be held. Winners will be drawn and announced by Tuesday\, January 4 on the Roane Chamber Facebook page and will receive an email and/or call per the info provided on the entry form.
X-ALT-DESC;FMTTYPE=text/html:<p style="font-size: 16px\; box-sizing: border-box\; margin: 0px 0px 10px\; font-family: Oxygen\, sans-serif\;">One of the more popular campaigns of the Shop Roane program is the annual shopping spree contest that launches in November and runs several weeks leading up to Christmas.&nbsp\; The Chamber understands this is a very important time when local businesses are looking to increase sales while having to compete with online and much larger stores during the holiday shopping season.&nbsp\; This contest encourages customers to visit those participating businesses and shop while there.</p>\n\n<p style="font-size: 16px\; box-sizing: border-box\; margin: 0px 0px 10px\; font-family: Oxygen\, sans-serif\;">The 2021&nbsp\;<em style="box-sizing: border-box\;">Shop Where Your Heart Is</em>&nbsp\;contest will officially begin on Monday\, November 16th. Participating businesses will be announced once the contest begins.&nbsp\;Shoppers who attend (and shop!) the Jingle &amp\; Mingle Market hosted by the Roane Chamber on November 13<span style="box-sizing: border-box\; font-size: 12px\; line-height: 0\; position: relative\; vertical-align: baseline\; top: -0.5em\;">th</span>&nbsp\;and 14<span style="box-sizing: border-box\; font-size: 12px\; line-height: 0\; position: relative\; vertical-align: baseline\; top: -0.5em\;">th</span>&nbsp\;will have the first chance to enter the contest!</p>\n\n<p style="font-size: 16px\; box-sizing: border-box\; margin: 0px 0px 10px\; font-family: Oxygen\, sans-serif\;">The Roane Chamber hopes everyone will Shop Local this holiday season!&nbsp\; And be sure to visit any (or all) of the participating businesses and enter the Roane Chamber&rsquo\;s annual shopping spree contest for a chance to win a minimum of $800!</p>\n\n<p style="font-size: 16px\; box-sizing: border-box\; margin: 0px 0px 10px\; font-family: Oxygen\, sans-serif\;">To become a participating business\, you must have a store front in Roane County with regular posted business hours.&nbsp\; The cost to participate is $100 per business that will go toward the cash prizes and advertising.&nbsp\; Each participating business will receive entry forms and a box for their store. The Chamber will promote each of the participating businesses on social media\, on the radio and in the Roane County News during the weeks of the contest.</p>\n\n<p style="font-size: 16px\; box-sizing: border-box\; margin: 0px 0px 10px\; font-family: Oxygen\, sans-serif\;">Customers may enter the contest at any participating business for a chance to win up to $800 in prizes.&nbsp\; Several winners will split the prizes\, depending on the number of participating businesses.</p>\n\n<p style="font-size: 16px\; box-sizing: border-box\; margin: 0px 0px 10px\; font-family: Oxygen\, sans-serif\;">Typically\, winners are drawn during the annual Roane Alliance Christmas Open House\, but due to COVID-19 the 2021 open house will not be held. Winners will be drawn and announced by Tuesday\, January 4 on the&nbsp\;<a href="https://www.facebook.com/RoaneChamber" style="box-sizing: border-box\; color: rgb(103\, 138\, 157)\; text-decoration: none\;">Roane Chamber Facebook page&nbsp\;</a>and will receive an email and/or call per the info provided on the entry form.</p>\n
LOCATION:
UID:e.2172.10413
SEQUENCE:3
DTSTAMP:20260423T082051Z
URL:https://business.roanechamber.com/events/details/shop-where-your-heart-is-2021-10413
END:VEVENT

END:VCALENDAR
