BEGIN:VCALENDAR
VERSION:2.0
PRODID:-//ChamberMaster//Event Calendar 2.0//EN
METHOD:PUBLISH
X-PUBLISHED-TTL:P3D
REFRESH-INTERVAL:P3D
CALSCALE:GREGORIAN
BEGIN:VEVENT
DTSTART:20220922T123000Z
DTEND:20220922T181500Z
X-MICROSOFT-CDO-ALLDAYEVENT:FALSE
SUMMARY:Senior Seminar hosted by Mid-East Community Action Agency
DESCRIPTION:Roane County seniors and those with elderly family may want to consider sitting in and listening to an upcoming seminar hosted by Mid-East Community Action Agency (MECAA) and sponsored by Roane County ElederWatch.   \n\n\n\nThe free yearly seminar will detail the process of selecting Medicare A\, B and D options\, services offered by Veterans Affairs\, as well as\, portions of the elder law landscape.  A light breakfast and lunch will also be served.  \n\n\n\nThose interested in learning more information or wishing to pre-register should contact Mid-East Community Senior Services Department at 865-354-0450
X-ALT-DESC;FMTTYPE=text/html:Roane County seniors and those with elderly family may want to consider sitting in and listening to an upcoming seminar hosted by Mid-East Community Action Agency (MECAA) and sponsored by Roane County ElederWatch. &nbsp\;&nbsp\;<br />\n<br />\nThe free yearly seminar will detail the process of selecting Medicare A\, B and D options\, services offered by Veterans Affairs\, as well as\, portions of the elder law landscape. &nbsp\;A light breakfast and lunch will also be served. &nbsp\;<br />\n<br />\nThose interested in learning more information or wishing to pre-register should contact Mid-East Community Senior Services Department at 865-354-0450
LOCATION:First Baptist Church 215 N. Kentucky St. Kingston\, TN 37763
UID:e.2172.11625
SEQUENCE:3
DTSTAMP:20260423T200235Z
URL:https://business.roanechamber.com/events/details/senior-seminar-hosted-by-mid-east-community-action-agency-11625
END:VEVENT

END:VCALENDAR
