BEGIN:VCALENDAR
VERSION:2.0
PRODID:-//ChamberMaster//Event Calendar 2.0//EN
METHOD:PUBLISH
X-PUBLISHED-TTL:P3D
REFRESH-INTERVAL:P3D
CALSCALE:GREGORIAN
BEGIN:VEVENT
DTSTART:20220928T114500Z
DTEND:20220928T120000Z
X-MICROSOFT-CDO-ALLDAYEVENT:FALSE
SUMMARY:See You At The Pole - Day of Student Prayer
DESCRIPTION:See you at the Pole - Day of Student Prayer - Roane County High School\n\n\n\nSponsored by Morrison Hill Christian Church\n\n\n\nMeet at the flagpole September 28 at 7:45 am for a morning of prayer!
X-ALT-DESC;FMTTYPE=text/html:See you at the Pole - Day of Student Prayer - Roane County High School<br />\n<br />\nSponsored by Morrison Hill Christian Church<br />\n<br />\nMeet at the flagpole September 28 at 7:45 am for a morning of prayer!
LOCATION:Roane County High School Kingston\, TN 37763
UID:e.2172.12685
SEQUENCE:3
DTSTAMP:20260423T214518Z
URL:https://business.roanechamber.com/events/details/see-you-at-the-pole-day-of-student-prayer-12685
END:VEVENT

END:VCALENDAR
