BEGIN:VCALENDAR
VERSION:2.0
PRODID:-//ChamberMaster//Event Calendar 2.0//EN
METHOD:PUBLISH
X-PUBLISHED-TTL:P3D
REFRESH-INTERVAL:P3D
CALSCALE:GREGORIAN
BEGIN:VEVENT
DTSTART:20221025T143000Z
DTEND:20221025T150000Z
X-MICROSOFT-CDO-ALLDAYEVENT:FALSE
SUMMARY:Rural Grant Award Presentation from USDA - Free Medical Clinic
DESCRIPTION:Presentation of a Rural Grant Award from USDA - Free Medical Clinic\n\n\n\nWe are having an event at our Harriman office for a Rural Grant award from USDA.This grant award of  $804\,600.00 is part of a matching grant to help support rural medical care to the underserved.\n\n \nWe will be hosting a grant announcement event on the 25th at 10:30am\n\n\n\nJoin us in this wonderful celebration. It won't be long\, just a quick announcement and walk thru our office.
X-ALT-DESC;FMTTYPE=text/html:Presentation of a Rural Grant Award from USDA - Free Medical Clinic<br />\n<br />\nWe are having an event at our Harriman office for a Rural Grant award from USDA.This grant award of&nbsp\; $804\,600.00 is part of a matching grant to help support rural medical care to the underserved.<br />\n&nbsp\;\n<div style="color:rgb(0\, 0\, 0)\;">We will be hosting a grant announcement&nbsp\;event on the 25th at 10:30am<br />\n<br />\nJoin us in this wonderful celebration. It won&#39\;t be long\, just a quick announcement&nbsp\;and walk thru our office.&nbsp\;</div>\n\n<div style="color:rgb(0\, 0\, 0)\;">&nbsp\;</div>\n\n<div style="color:rgb(0\, 0\, 0)\;">&nbsp\;</div>\n
LOCATION:Free Medical Clinic 521 Devonia St. Harriman\, TN 37748
UID:e.2172.12877
SEQUENCE:3
DTSTAMP:20260423T232339Z
URL:https://business.roanechamber.com/events/details/rural-grant-award-presentation-from-usda-free-medical-clinic-12877
END:VEVENT

END:VCALENDAR
