BEGIN:VCALENDAR
VERSION:2.0
PRODID:-//ChamberMaster//Event Calendar 2.0//EN
METHOD:PUBLISH
X-PUBLISHED-TTL:P3D
REFRESH-INTERVAL:P3D
CALSCALE:GREGORIAN
BEGIN:VEVENT
DTSTART:20220904T170000Z
DTEND:20220905T020000Z
X-MICROSOFT-CDO-ALLDAYEVENT:FALSE
SUMMARY:Rockwood Rockin the Ramp Labor Day Celebration
DESCRIPTION:City of Rockwood and Rockwood Parks & Rec. Presents Rockwood's Inaugural Labor Day Celebration - Rockin the Ramp \n\n\n\nAfter several years of consideration\, Rockwood Mayor Mike "Brillo" Miller has decided it is time for the city to move forward with a Labor Day Celebration.  Rockin the Ramp is planned to become an annual event.  "We have worked so hard for so long on the Rockwood Marina.  Now that is happening right before our eyes\, we feel it is the time to start an annual celebration!  Labor Day weekend is appropriate\, as we can also celebrate our hard working men and women who make our city prosper every day." said Miller.\n\n\n\nThe annual event will be held each year at Tom Fuller Park on Sunday afternoon (beginning at 1:00 pm) prior to Labor Day Monday.\n\n\n\nThe festivities will include food trucks\, vendors\, live music\, kids play zone\, water activities\, corn hole and fireworks!  Potential sponsors\, musicians\, vendors and other interested parties are encouraged to email all questions to rockintheramp@cityofrockwood.com or call Rockwood City Hall at 865-354-0611.  \n\n\n\nThe musical line up includes: Dudley Freels\, Ben Briley\, former American Idol contestant\, Ethan Lively from The Voice and the Main Event: The Fairview Union. Live music begins at 3 pm.\n\n\n\nWECO Radio 101.3F M Live Remote 1-3 pm\n\n\n\nPlease join us and bring your family to enjoy Rockwood's Labor Day Celebration.
X-ALT-DESC;FMTTYPE=text/html:<span style="font-size:14px\;"><strong>City of Rockwood and Rockwood Parks &amp\; Rec. Presents Rockwood&#39\;s Inaugural Labor Day Celebration - Rockin the Ramp&nbsp\;</strong></span><br />\n<br />\nAfter several years of consideration\, Rockwood Mayor Mike &quot\;Brillo&quot\; Miller has decided it is time for the city to move forward with a Labor Day Celebration. &nbsp\;Rockin the Ramp is planned to become an annual event. &nbsp\;&quot\;We have worked so hard for so long on the Rockwood Marina. &nbsp\;Now that is happening right before our eyes\, we feel it is the time to start an annual celebration! &nbsp\;Labor Day weekend is appropriate\, as we can also celebrate our hard working men and women who make our city prosper every day.&quot\; said Miller.<br />\n<br />\nThe annual event will be held each year at Tom Fuller Park on Sunday afternoon (beginning at 1:00 pm) prior to Labor Day Monday.<br />\n<br />\nThe festivities will include food trucks\, vendors\, live music\, kids play zone\, water activities\, corn hole and fireworks! &nbsp\;Potential sponsors\, musicians\, vendors and other interested parties are encouraged to email all questions to rockintheramp@cityofrockwood.com or call Rockwood City Hall at 865-354-0611. &nbsp\;<br />\n<br />\nThe musical line up includes: Dudley Freels\, Ben Briley\, former American Idol contestant\, Ethan Lively from The Voice and the Main Event: The Fairview Union. Live music begins at 3 pm.<br />\n<br />\nWECO Radio 101.3F M Live Remote 1-3 pm<br />\n<br />\nPlease join us and bring your family to enjoy Rockwood&#39\;s Labor Day Celebration. &nbsp\;&nbsp\;<br />\n<br />\n<br />\n<br />\n&nbsp\;
LOCATION:Tom Fuller Park 1360 Pumphouse Road Rockwood\, TN 37854
UID:e.2172.10785
SEQUENCE:3
DTSTAMP:20260423T200235Z
URL:https://business.roanechamber.com/events/details/rockwood-rockin-the-ramp-labor-day-celebration-10785
END:VEVENT

END:VCALENDAR
