BEGIN:VCALENDAR
VERSION:2.0
PRODID:-//ChamberMaster//Event Calendar 2.0//EN
METHOD:PUBLISH
X-PUBLISHED-TTL:P3D
REFRESH-INTERVAL:P3D
CALSCALE:GREGORIAN
BEGIN:VEVENT
DTSTART:20220930T210000Z
DTEND:20220930T230000Z
X-MICROSOFT-CDO-ALLDAYEVENT:FALSE
SUMMARY:Rockwood Civitan Club Chili Supper
DESCRIPTION:Rockwood Civitan Club Chili Supper\n\n\n\nFriday\, September 30\, 2022\n\n5:00 pm - 7:00 pm\n\n\n\nRockwood High School Cafeteria\n\n\n\n$6.00 per ticket - Tickets can be purchased at the door.\n\n\n\nRockwood Tigers VS Oneida Indians
X-ALT-DESC;FMTTYPE=text/html:Rockwood Civitan Club Chili Supper<br />\n<br />\nFriday\, September 30\, 2022<br />\n5:00 pm - 7:00 pm<br />\n<br />\nRockwood High School Cafeteria<br />\n<br />\n$6.00 per ticket - Tickets can be purchased at the door.<br />\n<br />\nRockwood Tigers VS Oneida Indians
LOCATION:Rockwood High School Cafeteria 512 W. Rockwood St. Rockwood\, TN 37854
UID:e.2172.12700
SEQUENCE:3
DTSTAMP:20260423T200241Z
URL:https://business.roanechamber.com/events/details/rockwood-civitan-club-chili-supper-12700
END:VEVENT

END:VCALENDAR
