BEGIN:VCALENDAR
VERSION:2.0
PRODID:-//ChamberMaster//Event Calendar 2.0//EN
METHOD:PUBLISH
X-PUBLISHED-TTL:P3D
REFRESH-INTERVAL:P3D
CALSCALE:GREGORIAN
BEGIN:VEVENT
DTSTART:20220913T153000Z
DTEND:20220913T170000Z
X-MICROSOFT-CDO-ALLDAYEVENT:FALSE
SUMMARY:Roane County United Way Interagency Meeting
DESCRIPTION:Roane County United Way Monthly Interagency Meeting.
X-ALT-DESC;FMTTYPE=text/html:Roane County United Way Monthly Interagency Meeting.
LOCATION:Various locations or Online Zoom meeting.
UID:e.2172.11570
SEQUENCE:3
DTSTAMP:20260423T214715Z
URL:https://business.roanechamber.com/events/details/roane-county-united-way-interagency-meeting-09-13-2022-11570
END:VEVENT

END:VCALENDAR
