BEGIN:VCALENDAR
VERSION:2.0
PRODID:-//ChamberMaster//Event Calendar 2.0//EN
METHOD:PUBLISH
X-PUBLISHED-TTL:P3D
REFRESH-INTERVAL:P3D
CALSCALE:GREGORIAN
BEGIN:VEVENT
DTSTART;VALUE=DATE:20221029
DTEND;VALUE=DATE:20221030
TRANSP:TRANSPARENT
X-MICROSOFT-CDO-ALLDAYEVENT:TRUE
SUMMARY:Roane County United Way 2022 Day of Caring
DESCRIPTION:Roane County Untied Way 2022 Day of Caring!\n\n\n\nSave the Date!\n\n\n\nOctober\, 29\, 2022\n\n9 am - 1 pm\n\n\n\nMore details coming soon!
X-ALT-DESC;FMTTYPE=text/html:Roane County Untied Way 2022 Day of Caring!<br />\n<br />\nSave the Date!<br />\n<br />\nOctober\, 29\, 2022<br />\n9 am - 1 pm<br />\n<br />\nMore details coming soon!
LOCATION:Roane County
UID:e.2172.12783
SEQUENCE:3
DTSTAMP:20260423T232452Z
URL:https://business.roanechamber.com/events/details/roane-county-united-way-2022-day-of-caring-12783
END:VEVENT

END:VCALENDAR
