BEGIN:VCALENDAR
VERSION:2.0
PRODID:-//ChamberMaster//Event Calendar 2.0//EN
METHOD:PUBLISH
X-PUBLISHED-TTL:P3D
REFRESH-INTERVAL:P3D
CALSCALE:GREGORIAN
BEGIN:VEVENT
DTSTART:20220618T113000Z
DTEND:20220618T160000Z
X-MICROSOFT-CDO-ALLDAYEVENT:FALSE
SUMMARY:Ride For Hope - Mane Support
DESCRIPTION:Ride for Hope - Mane Support \n\n\n\nGate opens at 7:30 am - Ride Starts at 9:00 am\n\n\n\nBoxed lunch & T-shirts are included with the ride - Lunch is sponsored by Flying Pigs BBQ & FATBOYS!\n\n\n\nNo registration fee - Donation - based ride.\n\n\n\nAll donations go to support sponsorship of children & youth programs of Mane Support.\n\n\n\nMane Support is an equine assisted grief counseling center that serves children\, adults\, and families who have experienced traumatic loss.
X-ALT-DESC;FMTTYPE=text/html:Ride for Hope - Mane Support&nbsp\;<br />\n<br />\nGate opens at 7:30 am - Ride Starts at 9:00 am<br />\n<br />\nBoxed lunch &amp\; T-shirts are included with the ride - Lunch is sponsored by Flying Pigs BBQ &amp\; FATBOYS!<br />\n<br />\nNo registration fee - Donation - based ride.<br />\n<br />\nAll donations go to support sponsorship of children &amp\; youth programs of Mane Support.<br />\n<br />\nMane Support is an equine assisted grief counseling center that serves children\, adults\, and families who have experienced traumatic loss.
LOCATION:Spirit of Hope Ranch - Home of Mane Support 1522 New Hope Road Rockwood\, TN 37854
UID:e.2172.10747
SEQUENCE:3
DTSTAMP:20260423T162302Z
URL:https://business.roanechamber.com/events/details/ride-for-hope-mane-support-10747
END:VEVENT

END:VCALENDAR
