BEGIN:VCALENDAR
VERSION:2.0
PRODID:-//ChamberMaster//Event Calendar 2.0//EN
METHOD:PUBLISH
X-PUBLISHED-TTL:P3D
REFRESH-INTERVAL:P3D
CALSCALE:GREGORIAN
BEGIN:VEVENT
DTSTART:20220909T180000Z
DTEND:20220909T190000Z
X-MICROSOFT-CDO-ALLDAYEVENT:FALSE
SUMMARY:Ribbon Cutting-Stand By Your Pan Catering
DESCRIPTION:Ribbon Cutting for Stand By Your Pan Catering
X-ALT-DESC;FMTTYPE=text/html:Ribbon Cutting for Stand By Your Pan Catering
LOCATION:The Roane Alliance 1209 N. Kentucky St. Kingston\, TN 37763
UID:e.2172.11623
SEQUENCE:3
DTSTAMP:20260423T214351Z
URL:https://business.roanechamber.com/events/details/ribbon-cutting-stand-by-your-pan-catering-11623
END:VEVENT

END:VCALENDAR
