BEGIN:VCALENDAR
VERSION:2.0
PRODID:-//ChamberMaster//Event Calendar 2.0//EN
METHOD:PUBLISH
X-PUBLISHED-TTL:P3D
REFRESH-INTERVAL:P3D
CALSCALE:GREGORIAN
BEGIN:VEVENT
DTSTART:20220916T210000Z
DTEND:20220917T000000Z
X-MICROSOFT-CDO-ALLDAYEVENT:FALSE
SUMMARY:Olympian Comes Home: A Red Carpet Gala
DESCRIPTION:Olympian Comes Home: A Red Carpet Gala\n\n\n\nA fundraising Gala to restore the Sharrieffa Barksdale Track at Harriman High School.\n\n\n\n5:00 pm - Pictures and Autograph Signing\n\n6:00 pm - Mingle\n\n6:30 pm - Dinner\n\n\n\nTickets are:\n\n$75 per person\n\n$600 for a table of 8\n\n\n\nPlease RSVP by September 1\, 2022 at marthawilkinson11@gmail.com\n\n\n\nTo purchase tables and tickets\, please pay by check or Zelle App.\n\nChecks payable to: The Sharrieffa Barksdale Track Foundation\n\nOnline through Zelle to 615-305-5938\n\n\n\nChecks can be mailed to:\n\nThe Sharrieffa Barksdale Foundation\n\n820 Trenton St.\n\nHarriman\, TN 37748\n\n\n\nA film crew will be in Harriman to get initial footage for a television series about Ms. Barksdale's life "The Last Hurdle: A True Olympian Story".
X-ALT-DESC;FMTTYPE=text/html:<p>Olympian Comes Home: A Red Carpet Gala<br />\n<br />\nA fundraising Gala to restore the Sharrieffa Barksdale Track at Harriman High School.<br />\n<br />\n5:00 pm - Pictures and Autograph Signing<br />\n6:00 pm - Mingle<br />\n6:30 pm - Dinner<br />\n<br />\nTickets are:<br />\n$75 per person<br />\n$600 for a table of 8<br />\n<br />\nPlease RSVP by September 1\, 2022 at&nbsp\;marthawilkinson11@gmail.com<br />\n<br />\nTo purchase tables and tickets\, please pay by check or Zelle App.<br />\nChecks payable to: The Sharrieffa Barksdale Track Foundation<br />\nOnline through Zelle to 615-305-5938<br />\n<br />\nChecks can be mailed to:<br />\nThe Sharrieffa Barksdale Foundation<br />\n820 Trenton St.<br />\nHarriman\, TN 37748<br />\n<br />\nA film crew will be in Harriman to get initial footage for a television series about Ms. Barksdale&#39\;s life &quot\;The Last Hurdle: A True Olympian Story&quot\;.</p>\n
LOCATION:Frederick Gates Hall 408 N. Roane St. Harriman\, TN 37748
UID:e.2172.11269
SEQUENCE:3
DTSTAMP:20260423T214350Z
URL:https://business.roanechamber.com/events/details/olympian-comes-home-a-red-carpet-gala-11269
END:VEVENT

END:VCALENDAR
