BEGIN:VCALENDAR
VERSION:2.0
PRODID:-//ChamberMaster//Event Calendar 2.0//EN
METHOD:PUBLISH
X-PUBLISHED-TTL:P3D
REFRESH-INTERVAL:P3D
CALSCALE:GREGORIAN
BEGIN:VEVENT
DTSTART:20220903T003000Z
DTEND:20220903T023000Z
X-MICROSOFT-CDO-ALLDAYEVENT:FALSE
SUMMARY:Movie Night at the Southwest Point Amphitheater
DESCRIPTION:Kingston Parks and Rec presents FREE Movie Night at the Southwest Point Amphitheater\n\n\n\nThe Bad Guys - August 19th\n\nEncanto - September 2\n\nMovies start at dusk!\n\n\n\nFREE Admission - Bring your Chairs and Blankets\n\n\n\nBoth Movies Rated PG
X-ALT-DESC;FMTTYPE=text/html:Kingston Parks and Rec presents FREE Movie Night at the Southwest Point Amphitheater<br />\n<br />\nThe Bad Guys - August 19th<br />\nEncanto - September 2<br />\nMovies start at dusk!<br />\n<br />\nFREE Admission - Bring your Chairs and Blankets<br />\n<br />\nBoth Movies Rated PG
LOCATION:Southwest Point Amphitheater 1226 S. Kentucky St. Kingston\, TN 37763
UID:e.2172.10864
SEQUENCE:3
DTSTAMP:20260423T214606Z
URL:https://business.roanechamber.com/events/details/movie-night-at-the-southwest-point-amphitheater-10864
END:VEVENT

END:VCALENDAR
