BEGIN:VCALENDAR
VERSION:2.0
PRODID:-//ChamberMaster//Event Calendar 2.0//EN
METHOD:PUBLISH
X-PUBLISHED-TTL:P3D
REFRESH-INTERVAL:P3D
CALSCALE:GREGORIAN
BEGIN:VEVENT
DTSTART:20221008T223000Z
DTEND:20221009T010000Z
X-MICROSOFT-CDO-ALLDAYEVENT:FALSE
SUMMARY:Movie Night at the Museum - Tonight Showing OCTOBER SKY
DESCRIPTION:Movie Night at the Museum - Tonight showing OCTOBER SKY\n\n\n\nHeld on the 2nd Saturday of each month\n\n\n\nMovie begins at 6:30 pm\n\n\n\nNo admission\, but donations gladly accepted.\n\n\n\nPopcorn\, sodas\, candy available for purchase.  \n\n\n\nMovie shown in the Stone Theater - Oliver Springs Historical Society Museum\n\n\n\nMovies are family based.
X-ALT-DESC;FMTTYPE=text/html:Movie Night at the Museum - Tonight showing <strong>OCTOBER SKY</strong><br />\n<br />\nHeld on the 2nd Saturday of each month<br />\n<br />\nMovie begins at 6:30 pm<br />\n<br />\nNo admission\, but donations gladly accepted.<br />\n<br />\nPopcorn\, sodas\, candy available for purchase. &nbsp\;<br />\n<br />\nMovie shown in the Stone Theater - Oliver Springs Historical Society Museum<br />\n<br />\nMovies are family based.
LOCATION:Stone Theater - Oliver Springs Historical Society Museum 301 Kingston Ave. Oliver Springs\, TN 37840
UID:e.2172.10763
SEQUENCE:3
DTSTAMP:20260423T232339Z
URL:https://business.roanechamber.com/events/details/movie-night-at-the-museum-tonight-showing-october-sky-10763
END:VEVENT

END:VCALENDAR
