BEGIN:VCALENDAR
VERSION:2.0
PRODID:-//ChamberMaster//Event Calendar 2.0//EN
METHOD:PUBLISH
X-PUBLISHED-TTL:P3D
REFRESH-INTERVAL:P3D
CALSCALE:GREGORIAN
BEGIN:VEVENT
DTSTART:20220905T210000Z
DTEND:20220906T000000Z
X-MICROSOFT-CDO-ALLDAYEVENT:FALSE
SUMMARY:Labor Day Southern Gospel Singing Celebration - An Evening with the Hinson Family
DESCRIPTION:An Evening with the Hinson Family\n\nMake your plans to end the Labor Day holiday with helping a worthy cause and worship. on Monday September 5th in downtown Harriman at at the first Christian church located 324 Morgan Avenue\, as they are hosting a big night of gospel music and spaghetti dinner with all the trimmings. Proceeds from the dinner and the ticket price of $10 which gets you dinner and the concert. Let's come together and help the First Christian Church food pantry which feeds hundreds each month. You will see and hear the award-winning Hinson family Legacy group as Weston Hinson the son of Legendary  singer/songwriter Kenny Hinson will sing songs from the award winning Original Hinson Family as the music continues . You also will see and hear Heartland Quartet\, Dave Raby and Believers voice\, along with Charity and Johnny Hamilton and hosted by Dudley Evans.\n\n\n\nFor information contact Dudley Evans at 865-315-0505. or Pastor Phil Merrill at 865-924-7172 . A love offering will also be taken. Emcee for the the night Bob Etzel .\n\n\n\nWe'll see you in Harriman Labor Day beginning at 5:00 for a spaghetti dinner 6:00 for The concert!
X-ALT-DESC;FMTTYPE=text/html:<span style="font-size:18px\;">An Evening with the Hinson Family</span><br />\n<span style="font-size: 16px\; font-family: helvetica\, arial\, sans-serif\, serif\, EmojiFont\;">Make your plans to end the Labor Day holiday with helping a worthy cause and worship. on Monday September 5th in downtown Harriman at at the first Christian church located 324 Morgan Avenue\, as they are hosting a big night of gospel music and spaghetti dinner with all the trimmings. Proceeds from the dinner and the ticket price of $10 which gets you dinner and the concert. Let&#39\;s come together and help the First Christian Church food pantry which feeds hundreds each month. You will see and hear the award-winning Hinson family Legacy group as Weston Hinson the son of Legendary&nbsp\; singer/songwriter Kenny Hinson will sing songs from the award winning Original Hinson Family as the music continues . You also will see and hear Heartland Quartet\, Dave Raby and Believers voice\, along with Charity and Johnny Hamilton and hosted by Dudley Evans.<br />\n<br />\nFor information contact Dudley Evans at 865-315-0505. or Pastor Phil Merrill at 865-924-7172 . A love offering will also be taken. Emcee for the the night Bob Etzel .<br />\n<br />\nWe&#39\;ll see you in Harriman Labor Day beginning at 5:00 for a spaghetti dinner 6:00 for The concert!</span><br />\n&nbsp\;
LOCATION:First Christian Church Harriman 324 Morgan Ave. Harriman\, TN 37748
UID:e.2172.11326
SEQUENCE:3
DTSTAMP:20260423T214814Z
URL:https://business.roanechamber.com/events/details/labor-day-southern-gospel-singing-celebration-an-evening-with-the-hinson-family-11326
END:VEVENT

END:VCALENDAR
