BEGIN:VCALENDAR
VERSION:2.0
PRODID:-//ChamberMaster//Event Calendar 2.0//EN
METHOD:PUBLISH
X-PUBLISHED-TTL:P3D
REFRESH-INTERVAL:P3D
CALSCALE:GREGORIAN
BEGIN:VEVENT
DTSTART:20220423T150000Z
DTEND:20220423T200000Z
X-MICROSOFT-CDO-ALLDAYEVENT:FALSE
SUMMARY:Kingston Spring Street Fest
DESCRIPTION:Kingston Spring Street Fest - Saturday\, April 23 2022 - 11 am - 4 pm - Event by Kingston Parks and Recreation\n\n\n\nCraft Retail & Home-Based Sales Vendors - Car Show - Kids Games & Amusements - Live Music - Food Trucks\n\nOn the streets around the Old Roane County Courthouse.\n\n\n\nContact Debbie Russell at Debbie.russell@kingstontn.gov to request an application or call the office at 865-376-1356.
X-ALT-DESC;FMTTYPE=text/html:<p>Kingston Spring Street Fest - Saturday\, April 23 2022 - 11 am - 4 pm - Event by Kingston Parks and Recreation<br />\n<br />\nCraft Retail &amp\; Home-Based Sales Vendors - Car Show - Kids Games &amp\; Amusements - Live Music - Food Trucks</p>\n\n<p>On the streets around the Old Roane County Courthouse.<br />\n<br />\nContact Debbie Russell at Debbie.russell@kingstontn.gov to request an application or call the office at 865-376-1356.</p>\n
LOCATION:On the streets around the Old Roane County Courthouse 112 Court Street Kingston\, TN 37763
UID:e.2172.10559
SEQUENCE:3
DTSTAMP:20260423T130044Z
URL:https://business.roanechamber.com/events/details/kingston-spring-street-fest-10559
END:VEVENT

END:VCALENDAR
