BEGIN:VCALENDAR
VERSION:2.0
PRODID:-//ChamberMaster//Event Calendar 2.0//EN
METHOD:PUBLISH
X-PUBLISHED-TTL:P3D
REFRESH-INTERVAL:P3D
CALSCALE:GREGORIAN
BEGIN:VEVENT
DTSTART:20220730T120000Z
DTEND:20220730T150000Z
X-MICROSOFT-CDO-ALLDAYEVENT:FALSE
SUMMARY:Kingston Lakeside Farmers Market
DESCRIPTION:Come to the Kingston Lakeside Farmers Market\n\n\n\nSaturdays 8 - 11 am\n\n\n\nRaine or shine!
X-ALT-DESC;FMTTYPE=text/html:Come to the Kingston Lakeside Farmers Market<br>\n<br>\nSaturdays 8 - 11 am<br>\n<br>\nRaine or shine!
LOCATION:203 S. Kentucky St. Kingston\, TN 37763
UID:e.2172.10734
SEQUENCE:3
DTSTAMP:20260423T182257Z
URL:https://business.roanechamber.com/events/details/kingston-lakeside-farmers-market-07-30-2022-10734
END:VEVENT

END:VCALENDAR
