BEGIN:VCALENDAR
VERSION:2.0
PRODID:-//ChamberMaster//Event Calendar 2.0//EN
METHOD:PUBLISH
X-PUBLISHED-TTL:P3D
REFRESH-INTERVAL:P3D
CALSCALE:GREGORIAN
BEGIN:VEVENT
DTSTART:20220917T113000Z
DTEND:20220917T223000Z
X-MICROSOFT-CDO-ALLDAYEVENT:FALSE
SUMMARY:Katerpillar Kids Camp
DESCRIPTION:Covenant HomeCare and Hospice is proud to partner with Mane Support to host our next Katerpiller Kids Camp for children\, youth and families who have experienced the death of someone they know.\n\n\n\nOpen to children in 1st-12th grade\, campers participate in a variety of fun activities\, including equine assisted counseling\, art\, play and discussion\, as they learn how to process grief in a safe\, healthy way.  \n\n\n\nFall 2022 Katerpillar Kids Camp camper registration and volunteer applications are now live!  Camp is scheduled for September 17 and September 18 at Mane Support in Rockwood\, TN.\n\n\n\nKaterpillar Kids Camp is a camp for children grades 1st-12th\, who are grieving the death of a loved one.  It is a free camp that teaches children how to cope with their loss through a variety of activities.\n\n\n\nCamp is only possible through volunteer staffing and due to a grant from Variety the Children's Charity of Tennessee.  Please share the attached flyers with families who may benefit from KKC and staff who would like to volunteer.  If possible\, hang in a public area.\n\n\n\nAnyone interested in registering a camper or volunteering can visit https://www.covenanthomecareandhospice.com/camp/ for more information and to fill out the application.  *Volunteer applicants must pass a background check to volunteer at camp.
X-ALT-DESC;FMTTYPE=text/html:Covenant HomeCare and Hospice is proud to partner with Mane Support to host our next Katerpiller Kids Camp for children\, youth and families who have experienced the death of someone they know.<br />\n<br />\nOpen to children in 1st-12th grade\, campers participate in a variety of fun activities\, including equine assisted counseling\, art\, play and discussion\, as they learn how to process grief in a safe\, healthy way. &nbsp\;<br />\n<br />\nFall 2022 Katerpillar Kids Camp camper registration and volunteer applications are now live! &nbsp\;Camp is scheduled for September 17 and September 18 at Mane Support in Rockwood\, TN.<br />\n<br />\nKaterpillar Kids Camp is a camp for children grades 1st-12th\, who are grieving the death of a loved one. &nbsp\;It is a free camp that teaches children how to cope with their loss through a variety of activities.<br />\n<br />\nCamp is only possible through volunteer staffing and due to a grant from Variety the Children&#39\;s Charity of Tennessee. &nbsp\;Please share the attached flyers with families who may benefit from KKC and staff who would like to volunteer. &nbsp\;If possible\, hang in a public area.<br />\n<br />\nAnyone interested in registering a camper or volunteering can visit https://www.covenanthomecareandhospice.com/camp/ for more information and to fill out the application. &nbsp\;*Volunteer applicants must pass a background check to volunteer at camp.<br />\n&nbsp\;
LOCATION:
UID:e.2172.10859
SEQUENCE:3
DTSTAMP:20260423T214343Z
URL:https://business.roanechamber.com/events/details/katerpillar-kids-camp-09-17-2022-10859
END:VEVENT

END:VCALENDAR
