BEGIN:VCALENDAR
VERSION:2.0
PRODID:-//ChamberMaster//Event Calendar 2.0//EN
METHOD:PUBLISH
X-PUBLISHED-TTL:P3D
REFRESH-INTERVAL:P3D
CALSCALE:GREGORIAN
BEGIN:VEVENT
DTSTART:20220926T230000Z
DTEND:20220927T010000Z
X-MICROSOFT-CDO-ALLDAYEVENT:FALSE
SUMMARY:Intro to Square Dancing
DESCRIPTION:Intro to Square Dancing at Kingston Church of Christ Family Life Center\n\n\n\nMonday\, September 19 and September 26\, 2022\n\n\n\nRobert Ferguson will be the caller/teacher.  He has been a caller for 17 years in Northern Indiana/Southern Michigan area and in the Rio Grande Valley in Texas. \n\n\n\nCome see what the fun is all about!  \n\n\n\nFor more information\, contact Robert Ferguson at 574-361 or Connie Williams at 865-919-5702
X-ALT-DESC;FMTTYPE=text/html:Intro to Square Dancing at Kingston Church of Christ Family Life Center<br />\n<br />\nMonday\, September 19 and September 26\, 2022<br />\n<br />\nRobert Ferguson will be the caller/teacher. &nbsp\;He has been a caller for 17 years in Northern Indiana/Southern Michigan area and in the Rio Grande Valley in Texas.&nbsp\;<br />\n<br />\nCome see what the fun is all about! &nbsp\;<br />\n<br />\nFor more information\, contact Robert Ferguson at 574-361 or Connie Williams at 865-919-5702
LOCATION:Kingston Church of Christ Family Life Center 120 Spring St. Kingston\, TN 37763
UID:e.2172.11670
SEQUENCE:3
DTSTAMP:20260423T214350Z
URL:https://business.roanechamber.com/events/details/intro-to-square-dancing-09-26-2022-11670
END:VEVENT

END:VCALENDAR
