BEGIN:VCALENDAR
VERSION:2.0
PRODID:-//ChamberMaster//Event Calendar 2.0//EN
METHOD:PUBLISH
X-PUBLISHED-TTL:P3D
REFRESH-INTERVAL:P3D
CALSCALE:GREGORIAN
BEGIN:VEVENT
DTSTART;VALUE=DATE:20220905
DTEND;VALUE=DATE:20220906
TRANSP:TRANSPARENT
X-MICROSOFT-CDO-ALLDAYEVENT:TRUE
SUMMARY:Hooray for Harriman Labor Day Festival
DESCRIPTION:Hooray for Harriman Labor Day Festival\n\n\n\nMonday\, September 5\, 2022 - 10 am - 4 pm\n\n\n\nHooray for Harriman is a street festival that celebrates our beautiful historic city and traditions! Hooray for Harriman was established in 1988 and continues to be a tradition that residents of Harriman enjoy and love each Labor Day. There will be live music\, food vendors\, arts and craft vendors\, antiques\, Kid's Alley\, Wrestling\, Cornhole Tournament\, Labor Day Pageant and much more!\n\n\n\nCome celebrate Harriman and all its beauty with us on Labor Day!\n\n\n\nCelebrate your community!  So much to see and do!  Featuring music from Solstice\, CJ Ausburn and special guest\, Nick Hickman!\n\n\n\nFor more information contact Martha Wilkinson\, Event Coordinator at martha.wilkinson@cityofharriman.net or 865-882-9414/615-305-5938\n\n\n\nAll Makes & Models Car Show - 10 am - 2 pm\n\nTrophies for People's Choice\, Mayor's Choice & Top Five!\n\nDash Plaques to all participants!\n\nSign up is $5\n\n Contact Nathan Hendrickson 865-617-3510
X-ALT-DESC;FMTTYPE=text/html:<span style="font-size: 18px\;"><strong>Hooray for Harriman Labor Day Festival</strong></span><br />\n<br />\n<span style="font-size: 14px\;">Monday\, September 5\, 2022 - 10 am - 4 pm</span><br />\n<br />\n<span style="font-size: 14px\; font-family: sans-serif\;">Hooray for Harriman is a street festival that celebrates our beautiful historic city and traditions! Hooray for Harriman was established in 1988 and continues to be a tradition that residents of Harriman enjoy and love each Labor Day. There will be live music\, food vendors\, arts and craft vendors\, antiques\, Kid&#39\;s Alley\, Wrestling\, Cornhole Tournament\, Labor Day Pageant and much more!<br />\n<br />\nCome celebrate Harriman and all its beauty with us on Labor Day!<br />\n<br />\nCelebrate your community! &nbsp\;So much to see and do! &nbsp\;Featuring music from Solstice\, CJ Ausburn and special guest\, Nick Hickman!</span><br />\n<br />\n<span style="font-size: 14px\;">For more information contact Martha Wilkinson\, Event Coordinator at martha.wilkinson@cityofharriman.net or 865-882-9414/615-305-5938</span><br />\n<br />\n<span style="font-size: 14px\;">All Makes &amp\; Models Car Show - 10 am - 2 pm</span><br />\n<span style="font-size: 14px\;">Trophies for People&#39\;s Choice\, Mayor&#39\;s Choice &amp\; Top Five!</span><br />\n<span style="font-size: 14px\;">Dash Plaques to all participants!</span><br />\n<span style="font-size: 14px\;">Sign up is $5</span><br />\n<span style="font-size: 14px\;">&#8203\;Contact&nbsp\;Nathan Hendrickson 865-617-3510</span>
LOCATION:Downtown Harriman Tennessee 37748
UID:e.2172.10744
SEQUENCE:3
DTSTAMP:20260423T200500Z
URL:https://business.roanechamber.com/events/details/hooray-for-harriman-labor-day-festival-10744
END:VEVENT

END:VCALENDAR
