BEGIN:VCALENDAR
VERSION:2.0
PRODID:-//ChamberMaster//Event Calendar 2.0//EN
METHOD:PUBLISH
X-PUBLISHED-TTL:P3D
REFRESH-INTERVAL:P3D
CALSCALE:GREGORIAN
BEGIN:VEVENT
DTSTART:20221026T160000Z
DTEND:20221026T170000Z
X-MICROSOFT-CDO-ALLDAYEVENT:FALSE
SUMMARY:Harriman Rotary Club Meeting
DESCRIPTION:Harriman Rotary Club Meeting\n\n\n\n12 pm - 1 pm
X-ALT-DESC;FMTTYPE=text/html:Harriman Rotary Club Meeting<br />\n<br />\n12 pm - 1 pm
LOCATION:Roane Medical Center 8045 Roane Medical Center Dr. Harriman\, TN 37748
UID:e.2172.12906
SEQUENCE:3
DTSTAMP:20260423T232241Z
URL:https://business.roanechamber.com/events/details/harriman-rotary-club-meeting-12906
END:VEVENT

END:VCALENDAR
