BEGIN:VCALENDAR
VERSION:2.0
PRODID:-//ChamberMaster//Event Calendar 2.0//EN
METHOD:PUBLISH
X-PUBLISHED-TTL:P3D
REFRESH-INTERVAL:P3D
CALSCALE:GREGORIAN
BEGIN:VEVENT
DTSTART:20221024T233000Z
DTEND:20221025T003000Z
X-MICROSOFT-CDO-ALLDAYEVENT:FALSE
SUMMARY:FRIGHT NIGHT AT David Webb Riverfront Park
DESCRIPTION:FRIGHT NIGHT \n\n \n\nMonday\, October 24\, 2022 and Tuesday\, October 25\, 2022\n\n\n\n7:30 pm - 10:30 pm (Last car at 9:30 pm)\n\n\n\nTake a ride through the park....at night.   You never know who or WHAT may be waiting for you!\n\n\n\nEvent is FREE!\n\n\n\nFor more information contact Martha Wilkinson\, Event Coordinator at martha.wilkinson@cityofharriman.net
X-ALT-DESC;FMTTYPE=text/html:FRIGHT NIGHT&nbsp\;<br />\n&nbsp\;<br />\nMonday\, October 24\, 2022 and Tuesday\, October 25\, 2022<br />\n<br />\n7:30 pm - 10:30 pm (Last car at 9:30 pm)<br />\n<br />\nTake a ride through the park....at night. &nbsp\; You never know who or WHAT may be waiting for you!<br />\n<br />\nEvent is FREE!<br />\n<br />\nFor more information contact Martha Wilkinson\, Event Coordinator at martha.wilkinson@cityofharriman.net
LOCATION:David Webb Riverfront Park 301 Emory Drive Harriman\, TN 37748
UID:e.2172.12687
SEQUENCE:3
DTSTAMP:20260423T231915Z
URL:https://business.roanechamber.com/events/details/fright-night-at-david-webb-riverfront-park-12687
END:VEVENT

END:VCALENDAR
