BEGIN:VCALENDAR
VERSION:2.0
PRODID:-//ChamberMaster//Event Calendar 2.0//EN
METHOD:PUBLISH
X-PUBLISHED-TTL:P3D
REFRESH-INTERVAL:P3D
CALSCALE:GREGORIAN
BEGIN:VEVENT
DTSTART:20220601T150000Z
DTEND:20220601T180000Z
X-MICROSOFT-CDO-ALLDAYEVENT:FALSE
SUMMARY:Food Truck Wednesdays in Downtown Harriman
DESCRIPTION:FOOD TRUCK WEDNESDAYS DOWNTOWN HARRIMAN\n\n\n\nEvery Wednesday thru December you will have another option for lunch 11am - 2 pm.
X-ALT-DESC;FMTTYPE=text/html:FOOD TRUCK WEDNESDAYS DOWNTOWN HARRIMAN<br>\n<br>\nEvery Wednesday thru December you will have another option for lunch 11am - 2 pm.<br>\n<br>\n&nbsp\;
LOCATION:Old Harriman Hospital Parking Lot 400 Block N. Roane Street Harriman\, TN 37748
UID:e.2172.10471
SEQUENCE:3
DTSTAMP:20260423T162953Z
URL:https://business.roanechamber.com/events/details/food-truck-wednesdays-in-downtown-harriman-06-01-2022-10471
END:VEVENT

END:VCALENDAR
