BEGIN:VCALENDAR
VERSION:2.0
PRODID:-//ChamberMaster//Event Calendar 2.0//EN
METHOD:PUBLISH
X-PUBLISHED-TTL:P3D
REFRESH-INTERVAL:P3D
CALSCALE:GREGORIAN
BEGIN:VEVENT
DTSTART:20220715T150000Z
DTEND:20220715T180000Z
X-MICROSOFT-CDO-ALLDAYEVENT:FALSE
SUMMARY:Food Truck Fridays - Presented by The Jim Henry Event Center
DESCRIPTION:Food Truck Friday - This week Clean Smoke BBQ\n\n\n\nFriday\, July 15\, 2022 - 11 am - 2 pm
X-ALT-DESC;FMTTYPE=text/html:Food Truck Friday - This week Clean Smoke BBQ<br />\n<br />\nFriday\, July 15\, 2022 - 11 am - 2 pm
LOCATION:The Jim Henry Event Center 411 N. 3rd Street Kingston\, TN 37763
UID:e.2172.10830
SEQUENCE:3
DTSTAMP:20260423T182508Z
URL:https://business.roanechamber.com/events/details/food-truck-fridays-presented-by-the-jim-henry-event-center-10830
END:VEVENT

END:VCALENDAR
