BEGIN:VCALENDAR
VERSION:2.0
PRODID:-//ChamberMaster//Event Calendar 2.0//EN
METHOD:PUBLISH
X-PUBLISHED-TTL:P3D
REFRESH-INTERVAL:P3D
CALSCALE:GREGORIAN
BEGIN:VEVENT
DTSTART:20220930T150000Z
DTEND:20220930T180000Z
X-MICROSOFT-CDO-ALLDAYEVENT:FALSE
SUMMARY:Food Truck Friday - The Jim Henry Event Center
DESCRIPTION:Food Truck Friday - The Jim Henry Event Center\n\n\n\n11 am - 2 pm\n\n\n\nDifferent vendor each week.
X-ALT-DESC;FMTTYPE=text/html:Food Truck Friday - The Jim Henry Event Center<br>\n<br>\n11 am - 2 pm<br>\n<br>\nDifferent vendor each week.
LOCATION:The Jim Henry Event Center 411 N. 3rd St. Kingston\, TN 37763
UID:e.2172.11538
SEQUENCE:3
DTSTAMP:20260423T200710Z
URL:https://business.roanechamber.com/events/details/food-truck-friday-the-jim-henry-event-center-09-30-2022-11538
END:VEVENT

END:VCALENDAR
