BEGIN:VCALENDAR
VERSION:2.0
PRODID:-//ChamberMaster//Event Calendar 2.0//EN
METHOD:PUBLISH
X-PUBLISHED-TTL:P3D
REFRESH-INTERVAL:P3D
CALSCALE:GREGORIAN
BEGIN:VEVENT
DTSTART;VALUE=DATE:20220730
DTEND;VALUE=DATE:20220731
TRANSP:TRANSPARENT
X-MICROSOFT-CDO-ALLDAYEVENT:TRUE
SUMMARY:Fire in the Hole Golf Tournament
DESCRIPTION:FIRE IN THE HOLE GOLF TOURNAMENT\n\n\n\nPresented by the City of Kingston Fire Department\n\n\n\n18 Holes of golf with cart - 4-man scramble - Lunch - Mulligans\n\n\n\n1st place $1\,000\n\n2nd place $600\n\nRandom Team $400\n\nClosest to the hold and longest drive prizes\n\n\n\nPossible Hole in One Prizes - $25\,000 and a Trip to the Masters\n\n\n\nSponsored by One Bank of Tennessee
X-ALT-DESC;FMTTYPE=text/html:FIRE IN THE HOLE GOLF TOURNAMENT<br />\n<br />\nPresented by the City of Kingston Fire Department<br />\n<br />\n18 Holes of golf with cart - 4-man scramble - Lunch - Mulligans<br />\n<br />\n1st place $1\,000<br />\n2nd place $600<br />\nRandom Team $400<br />\nClosest to the hold and longest drive prizes<br />\n<br />\nPossible Hole in One Prizes - $25\,000 and a Trip to the Masters<br />\n<br />\nSponsored by One Bank of Tennessee
LOCATION:Emory Golf CC Harriman\, TN 37748
UID:e.2172.10555
SEQUENCE:3
DTSTAMP:20260423T181947Z
URL:https://business.roanechamber.com/events/details/fire-in-the-hole-golf-tournament-10555
END:VEVENT

END:VCALENDAR
