BEGIN:VCALENDAR
VERSION:2.0
PRODID:-//ChamberMaster//Event Calendar 2.0//EN
METHOD:PUBLISH
X-PUBLISHED-TTL:P3D
REFRESH-INTERVAL:P3D
CALSCALE:GREGORIAN
BEGIN:VEVENT
DTSTART:20221005T220000Z
DTEND:20221005T230000Z
X-MICROSOFT-CDO-ALLDAYEVENT:FALSE
SUMMARY:Fields of Faith - Presented by Fellowship of Christian Athletes
DESCRIPTION:Fellowship of Christian Athletes presents: Fields of Faith\n\n\n\nOctober 5\, 2022 - 6 pm\n\n\n\nRoane County High School Football Field\n\n\n\nGuest Speaker - Jordan Jeffers\n\n\n\nA community wide event!\n\nBring a chair or blanket
X-ALT-DESC;FMTTYPE=text/html:Fellowship of Christian Athletes presents: Fields of Faith<br />\n<br />\nOctober 5\, 2022 - 6 pm<br />\n<br />\nRoane County High School Football Field<br />\n<br />\nGuest Speaker - Jordan Jeffers<br />\n<br />\nA community wide event!<br />\nBring a chair or blanket
LOCATION:Roane County High School Football Field 540 W. Cumberland St. Kingston\, TN 37763
UID:e.2172.12697
SEQUENCE:3
DTSTAMP:20260423T232913Z
URL:https://business.roanechamber.com/events/details/fields-of-faith-presented-by-fellowship-of-christian-athletes-12697
END:VEVENT

END:VCALENDAR
