BEGIN:VCALENDAR
VERSION:2.0
PRODID:-//ChamberMaster//Event Calendar 2.0//EN
METHOD:PUBLISH
X-PUBLISHED-TTL:P3D
REFRESH-INTERVAL:P3D
CALSCALE:GREGORIAN
BEGIN:VEVENT
DTSTART:20220927T130000Z
DTEND:20220927T203000Z
X-MICROSOFT-CDO-ALLDAYEVENT:FALSE
SUMMARY:Excel Level 2 at Roane State Community College
DESCRIPTION:Excel Level 2 at Roane State Community College - Oak Ridge Campus\n\n\n\nSeptember 27\, October 21 or December 13\, 2022\n\n\n\nFee: $169.00
X-ALT-DESC;FMTTYPE=text/html:Excel Level 2 at Roane State Community College - Oak Ridge Campus<br />\n<br />\nSeptember 27\, October 21 or December 13\, 2022<br />\n<br />\nFee: $169.00
LOCATION:Roane State Community College Oak Ridge Campus 701 Briarcliff Avenue Oak Ridge\, TN 37830
UID:e.2172.11542
SEQUENCE:3
DTSTAMP:20260423T195921Z
URL:https://business.roanechamber.com/events/details/excel-level-2-at-roane-state-community-college-11542
END:VEVENT

END:VCALENDAR
