BEGIN:VCALENDAR
VERSION:2.0
PRODID:-//ChamberMaster//Event Calendar 2.0//EN
METHOD:PUBLISH
X-PUBLISHED-TTL:P3D
REFRESH-INTERVAL:P3D
CALSCALE:GREGORIAN
BEGIN:VEVENT
DTSTART:20220912T130000Z
DTEND:20220912T203000Z
X-MICROSOFT-CDO-ALLDAYEVENT:FALSE
SUMMARY:Excel Level 1 at Roane State Community College
DESCRIPTION:Roane State Community College\n\nWorkforce Training - Exel Level 1\n\n\n\nSeptember 12\, October 14 or December 6\, 2022\n\n\n\nFee: $149.00
X-ALT-DESC;FMTTYPE=text/html:Roane State Community College<br />\nWorkforce Training - Exel Level 1<br />\n<br />\nSeptember 12\, October 14 or December 6\, 2022<br />\n<br />\nFee: $149.00
LOCATION:Roane State Community College Oak Ridge Campus 701 Briarcliff Avenue Oak Ridge\, TN 37830
UID:e.2172.11539
SEQUENCE:3
DTSTAMP:20260423T195938Z
URL:https://business.roanechamber.com/events/details/excel-level-1-at-roane-state-community-college-11539
END:VEVENT

END:VCALENDAR
