BEGIN:VCALENDAR
VERSION:2.0
PRODID:-//ChamberMaster//Event Calendar 2.0//EN
METHOD:PUBLISH
X-PUBLISHED-TTL:P3D
REFRESH-INTERVAL:P3D
CALSCALE:GREGORIAN
BEGIN:VEVENT
DTSTART:20220824T140000Z
DTEND:20220824T150000Z
X-MICROSOFT-CDO-ALLDAYEVENT:FALSE
SUMMARY:Equal Employment Opportunity Commission (EEOC) Webinar: ADA Reasonable Accommodation
DESCRIPTION:Equal Employment Opportunity Commission Webinar:\n\nADA Reasonable Accommodation\n\nWednesday\, August 24\, 10:00-11:00 am (ET)  \n\nPresented by William Cash\, Director\, EEOC Little Rock Area Office\n\n \n\nThe U.S. Equal Employment Opportunity Commission (EEOC) is responsible for enforcing federal laws that make it illegal to discriminate against a job applicant or an employee because of  the person's race\, color\, religion\, sex (including pregnancy\, transgender status\, and sexual orientation)\, national origin\, age (40 or older)\, disability or genetic information.\n\n \n\nPreventing employment discrimination from occurring in the workplace in the first place ispreferable to remedying the consequences of discrimination. The EEOC is committed to providing training\, technical assistance\, outreach\, and education programs on any matter related to EEO laws. The EEOC believes that discrimination can be averted if organizations andindividuals know their rights and responsibilities.\n\n \n\n	Wednesday\, August 24\, 10:00-11:00 am (ET): ADA Reasonable Accommodation     Reasonable accommodation is not new\, yet questions persist about navigating the reasonable accommodation interactive process. This session explores the requirement to provide reasonable accommodation\, the guidance on reasonable accommodation\, and the emerging issues in reasonable accommodation.\n\n \n\n \n\nRegister for this Webinar.ALutz@RoaneAlliance.org or call 865-376-5572.  We will email the Zoom meeting link to you before the webinar.\n\n \n\nRoane State Community College will give Continuing Education Units (CEU) for this workshop.
X-ALT-DESC;FMTTYPE=text/html:<strong><span style="color:#c00000\;"><span style="font-family:arial narrow\,sans-serif\;"><span style="font-size:24pt\;"><span style="font-size:20px\;">Equal Employment Opportunity Commission</span> <span style="font-size:20px\;">Webinar:</span></span></span></span></strong><br />\n<span style="font-size:22px\;"><strong><span style="color:#000099\;"><span style="font-family:arial narrow\,sans-serif\;">ADA Reasonable Accommodation</span></span></strong></span><br />\n<span style="font-size:20px\;"><strong><u><span style="color:#000099\;"><span style="font-family:arial narrow\,sans-serif\;">Wednesday\, August 24\, 10:00-11:00 am (ET)</span></span></u></strong>&nbsp\;&nbsp\;</span><br />\n<span style="font-size:20px\;"><strong><span style="color:#c00000\;"><span style="font-family:arial narrow\,sans-serif\;">Presented by William Cash\, Director\, EEOC Little Rock Area Office</span></span></strong></span><br />\n&nbsp\;<br />\n<span style="font-family:times new roman\,serif\;"><span style="font-size:14pt\;">The U.S. Equal Employment Opportunity Commission (EEOC) is responsible for enforcing federal laws that make it illegal to discriminate against a job applicant or an employee because of&nbsp\;&nbsp\;the person&#39\;s race\, color\, religion\, sex (including pregnancy\, transgender status\, and sexual orientation)\,&nbsp\;national&nbsp\;origin\,&nbsp\;age&nbsp\;(40&nbsp\;or&nbsp\;older)\,&nbsp\;disability&nbsp\;or&nbsp\;genetic&nbsp\;information.</span></span><br />\n&nbsp\;<br />\n<span style="font-family:times new roman\,serif\;"><span style="font-size:14pt\;">Preventing employment discrimination from occurring in the workplace in the first place ispreferable to remedying the consequences of discrimination.<span style="letter-spacing:0.05pt\;">&nbsp\;The&nbsp\;</span>EEOC is committed to providing&nbsp\;training\, technical assistance\, outreach\, and education programs on any matter related to EEO laws. The EEOC believes that discrimination can&nbsp\;be averted if organizations&nbsp\;andindividuals&nbsp\;know&nbsp\;their&nbsp\;rights&nbsp\;and responsibilities.</span></span><br />\n&nbsp\;\n<ul>\n	<li style="margin-right:18.85pt\;margin-bottom:0in\;"><span style="font-size:20px\;"><a href="https://business.roanechamber.com/events/details/equal-employment-opportunity-commission-eeoc-webinar-workplace-harassment-10775?calendarMonth=2022-07-01"><strong><span style="color:#000099\;"><span style="font-family:times new roman\,serif\;">Wednesday\, August 24\, 10:00-11:00 am (ET):&nbsp\;</span></span></strong><strong><span style="color:#000099\;"><span style="font-family:times new roman\,serif\;">ADA Reasonable Accommodation</span></span></strong>&nbsp\;</a>&nbsp\;<span style="font-family:times new roman\,serif\;">&ndash\;&nbsp\;&nbsp\;Reasonable&nbsp\;accommodation is not new\, yet&nbsp\;questions persist about navigating the reasonable accommodation interactive process.&nbsp\;This session explores the requirement to provide reasonable accommodation\, the&nbsp\;guidance on reasonable accommodation\, and the emerging issues in reasonable accommodation.</span></span></li>\n</ul>\n&nbsp\;<br />\n&nbsp\;<br />\n<strong><span style="font-family:times new roman\,serif\;"><span style="font-size:14.5pt\;">Register for this Webinar.</span></span></strong><a href="mailto:ALutz@RoaneAlliance.org"><strong><span style="color:#000099\;"><span style="font-family:times new roman\,serif\;"><span style="font-size:14.5pt\;">ALutz@RoaneAlliance.org</span></span></span></strong></a><span style="color: rgb(0\, 0\, 153)\; font-family: &quot\;times new roman&quot\;\, serif\; font-weight: bold\; font-size: 14.5pt\;">&nbsp\;or call 865-376-5572. </span>&nbsp\;<strong style="color: rgb(0\, 0\, 0)\; text-align: center\;"><span style="color:#c00000\;"><span style="font-family:times new roman\,serif\;"><span style="font-size:14.5pt\;">We will email the Zoom meeting link to you before the webinar.</span></span></span></strong><br />\n&nbsp\;<br />\n<span style="font-size:16px\;">Roane State Community College will give Continuing Education Units (CEU) for this workshop.</span><br />\n&nbsp\;<br />\n&nbsp\;
LOCATION:ONLINE Webinar We will email the Zoom meeting link to you before the webinar.
UID:e.2172.10828
SEQUENCE:3
DTSTAMP:20260423T195921Z
URL:https://business.roanechamber.com/events/details/equal-employment-opportunity-commission-eeoc-webinar-ada-reasonable-accommodation-10828
END:VEVENT

END:VCALENDAR
