BEGIN:VCALENDAR
VERSION:2.0
PRODID:-//ChamberMaster//Event Calendar 2.0//EN
METHOD:PUBLISH
X-PUBLISHED-TTL:P3D
REFRESH-INTERVAL:P3D
CALSCALE:GREGORIAN
BEGIN:VEVENT
DTSTART;VALUE=DATE:20211112
DTEND;VALUE=DATE:20211113
TRANSP:TRANSPARENT
X-MICROSOFT-CDO-ALLDAYEVENT:TRUE
SUMMARY:Environmental Infection Protection (Cleaning for COVID-19) - Online
DESCRIPTION:Environmental Infection Protection (Cleaning for COVID-19)\n\n\n\nThis is an 8 hour course that is online and self-paced. The instructor is monitoring the course\, adding new information as it comes and is available for any help.\n\n\n\nCourse Objectives: This course prepares individuals to know how to clean and prepare facilities for use following CDC guidelines.\n\n \nThis is an 8 hour course that may be completed over a two-week period.  There will be instructor access via Discussion Boards.\n\nIf your company would like to schedule their own class\, call or email Sonya Parker at 865.481.2031 or parkers@roanestate.edu\n\n\n\nFor more information go to https://registration.xenegrade.com/rscc/courseDisplay.cfm?schID=24912
X-ALT-DESC;FMTTYPE=text/html:<strong><span style="font-size: 16px\; caret-color: rgb(0\, 0\, 0)\; color: rgb(0\, 0\, 0)\; font-family: Verdana\;">Environmental Infection Protection (Cleaning for COVID-19)</span></strong><br />\n<br />\n<span style="font-size: 16px\; caret-color: rgb(0\, 0\, 0)\; color: rgb(0\, 0\, 0)\; font-family: Verdana\;"><span style="font-size:14px\;">This is an 8 hour course that is online and self-paced. The instructor is monitoring the course\, adding new information as it comes and is available for any help.</span></span><br />\n<br />\n<span style="font-size:14px\;"><span style="font-family:verdana\;">Course Objectives: This course prepares individuals to know how to clean and prepare facilities for use following CDC guidelines.</span></span><br />\n&nbsp\;\n<p style="box-sizing: border-box\; margin-top: 0px\; margin-bottom: 1rem\; font-stretch: normal\; font-size: 12px\; line-height: normal\; font-family: Arial\; caret-color: rgb(0\, 0\, 0)\; color: rgb(0\, 0\, 0)\;"><span style="font-size:14px\;"><span style="font-family:verdana\;">This is an 8 hour course that may be completed over a two-week period.&nbsp\; There will be instructor access via Discussion Boards.</span></span></p>\n\n<p style="box-sizing: border-box\; margin-top: 0px\; margin-bottom: 1rem\; font-stretch: normal\; font-size: 12px\; line-height: normal\; font-family: Arial\; caret-color: rgb(0\, 0\, 0)\; color: rgb(0\, 0\, 0)\;"><span style="font-size: 12px\;"><span style="font-size:14px\;"><span style="font-family:verdana\;">If your company would like to schedule their own class\, call or email Sonya Parker at 865.481.2031 or parkers@roanestate.ed</span></span>u<br />\n<br />\n<span style="font-size:14px\;"><span style="font-family:verdana\;">For more information go to&nbsp\;</span></span></span><a href="https://registration.xenegrade.com/rscc/courseDisplay.cfm?schID=24912"><span style="font-size:14px\;"><span style="font-family:verdana\;">https://registration.xenegrade.com/rscc/courseDisplay.cfm?schID=24912</span></span></a></p>\n<br />\n&nbsp\;
LOCATION:ONLINE - Register online
UID:e.2172.10382
SEQUENCE:3
DTSTAMP:20260423T082030Z
URL:https://business.roanechamber.com/events/details/environmental-infection-protection-cleaning-for-covid-19-online-11-12-2021-10382
END:VEVENT

END:VCALENDAR
