BEGIN:VCALENDAR
VERSION:2.0
PRODID:-//ChamberMaster//Event Calendar 2.0//EN
METHOD:PUBLISH
X-PUBLISHED-TTL:P3D
REFRESH-INTERVAL:P3D
CALSCALE:GREGORIAN
BEGIN:VEVENT
DTSTART:20220615T140000Z
DTEND:20220615T150000Z
X-MICROSOFT-CDO-ALLDAYEVENT:FALSE
SUMMARY:EEOC Webinar: The Big Payback can lead to the Big Payout: Retaliation
DESCRIPTION:Equal Employment Opportunity Commission Webinar:\n\nThe Big Payback can lead to the Big Payout: Retaliation\n\nPresented by Debra Finney\, EEOC Memphis District\n\nWednesday\, June 15\, 2022 - 10:00 - 11:00 am\n\n \n\nThe U.S. Equal Employment Opportunity Commission (EEOC) is responsible for enforcing federal laws that make it illegal to discriminate against a job applicant or an employee because of  the person's race\, color\, religion\, sex (including pregnancy\, transgender status\, and sexual orientation)\, national origin\, age (40 or older)\, disability orgenetic information.\n\n \n\nPreventing employment discrimination from occurring in the workplace in the first place is preferable to remedying the consequences of discrimination. The EEOC is committed to providing training\, technical assistance\, outreach\, and education programs on any matter related to EEO laws. The EEOC believes that discrimination can be averted if organizations and individuals know their rights and responsibilities.\n\n\n	Wednesday\, June 15\, 10:00-11:00 am (ET): The Big Payback can lead to the Big Payout: Retaliation   Retaliation is the most frequently filed charge with the EEOC. Significant costs are associated with retaliation\; monetary awards and settlements\, low morale\, high turnover\, etc. What is retaliation? What can an employer do to combat retaliation? These questions will be answered in this session.\n\n  \n\nRegister for this Webinar. ALutz@RoaneAlliance.org or call. \n\nWe will email the Zoom meeting link to you before the webinar.\n\nRoane State Community College will give Continuing Education Units (CEU) for this workshop\n\n  \n\nUPCOMING WEBINAR   Registration is not open yet:\n\n \n\n	Wednesday\, July 20\, 10:00-11:00 am (ET):  Workplace Harassment   Prevention is the best tool for eliminating workplace harassment. Harassment can occur based on any of the prohibited bases\; race\, sex (including sexual orientation\, gender identity\, or pregnancy)\, religion\, national origin\, age\, color\, disability\, or genetic information. Learn the dos and don'ts in preventing and correcting workplace harassment.
X-ALT-DESC;FMTTYPE=text/html:<p><span style="font-size:20px\;"><strong><span style="color:#c00000\;"><span style="font-family:arial narrow\,sans-serif\;">Equal Employment Opportunity Commission Webinar:</span></span></strong></span><br />\n<span style="font-size:20px\;"><strong><span style="color:#0f0597\;"><span style="font-family:arial\,sans-serif\;">The Big Payback can lead to the Big Payout</span></span></strong><span style="color:#0f0597\;"><span style="font-family:arial\,sans-serif\;">:&nbsp\;<strong>Retaliation</strong></span></span></span><br />\n<span style="font-size:20px\;"><strong><span style="color:#c00000\;"><span style="font-family:times new roman\,serif\;">Presented by Debra Finney\, EEOC Memphis District</span></span></strong></span></p>\n\n<p><span style="font-size:20px\;"><strong><span style="color:#c00000\;"><span style="font-family:times new roman\,serif\;">Wednesday\, June 15\, 2022 - 10:00 - 11:00 am</span></span></strong></span><br />\n&nbsp\;<br />\n<span style="font-size:11pt\;">The U.S. Equal Employment Opportunity Commission (EEOC) is responsible for enforcing&nbsp\;federal laws that make it illegal to discriminate against a job applicant or an employee because of&nbsp\;&nbsp\;the person&#39\;s race\, color\, religion\, sex (including pregnancy\, transgender status\, and sexual&nbsp\;orientation)\,&nbsp\;national&nbsp\;origin\,&nbsp\;age&nbsp\;(40&nbsp\;or&nbsp\;older)\,&nbsp\;disability&nbsp\;orgenetic&nbsp\;information.</span><br />\n&nbsp\;<br />\n<span style="font-size:11pt\;">Preventing employment discrimination from occurring in the workplace in the first place is&nbsp\;preferable to remedying the consequences of discrimination.<span style="letter-spacing:0.05pt\;">&nbsp\;The&nbsp\;</span>EEOC is committed to providing&nbsp\;training\, technical assistance\, outreach\, and education programs on any matter related to EEO laws. The EEOC believes that discrimination can&nbsp\;be averted if organizations&nbsp\;and&nbsp\;individuals&nbsp\;know&nbsp\;their&nbsp\;rights&nbsp\;and responsibilities.</span></p>\n\n<ul>\n	<li style="margin-right:7.05pt\;margin-bottom:0in\;"><strong><u><span style="color:#0f0597\;"><span style="font-family:times new roman\,serif\;"><span style="font-size:14pt\;">Wednesday\, June 15\, 10:00-11:00 am (ET):</span></span></span></u></strong>&nbsp\;<strong><u><span style="color:#0f0597\;"><span style="font-family:times new roman\,serif\;"><span style="font-size:14pt\;">The Big Payback can lead to the Big Payout</span></span></span></u></strong><u><span style="color:#0f0597\;"><span style="font-family:times new roman\,serif\;"><span style="font-size:14pt\;">:&nbsp\;<strong>Retaliation</strong></span></span></span></u>&nbsp\;<span style="font-family:times new roman\,serif\;"><span style="font-size:14pt\;">&ndash\; Retaliation is the most&nbsp\;frequently filed charge with the EEOC.&nbsp\;Significant costs are associated with retaliation\;&nbsp\;monetary awards and settlements\, low morale\, high turnover\, etc.&nbsp\;What is retaliation?&nbsp\;What can an employer do to combat retaliation?&nbsp\;These questions will be answered in this&nbsp\;session.</span></span></li>\n</ul>\n&nbsp\;&nbsp\;<br />\n<strong><span style="font-family:times new roman\,serif\;"><span style="font-size:14.5pt\;">Register for this Webinar.&nbsp\;</span></span></strong><a href="mailto:ALutz@RoaneAlliance.org"><strong><span style="color:#0f0597\;"><span style="font-family:times new roman\,serif\;"><span style="font-size:14.5pt\;">ALutz@RoaneAlliance.org</span></span></span></strong></a><strong><span style="color:#0f0597\;"><span style="font-family:times new roman\,serif\;"><span style="font-size:14.5pt\;">&nbsp\;or call. </span></span></span></strong><br />\n<strong><span style="font-size:18px\;"><span style="color:#c00000\;"><span style="font-family:times new roman\,serif\;">We will email the Zoom meeting link to you before the webinar.</span></span></span></strong><br />\n<span style="font-size:14px\;"><strong>Roane State Community College will give Continuing Education Units (CEU) for this workshop</strong></span><br />\n&nbsp\;&nbsp\;<br />\n<span style="font-size:20px\;"><strong><u><span style="color:#c00000\;"><span style="font-family:times new roman\,serif\;">UPCOMING WEBINAR &ndash\; Registration is not open yet:</span></span></u></strong></span><br />\n&nbsp\;\n<ul>\n	<li style="margin-right:6.3pt\;margin-bottom:0in\;"><strong><u><span style="color:#0f0597\;"><span style="font-family:times new roman\,serif\;"><span style="font-size:11.5pt\;">Wednesday\, July 20\, 10:00-11:00 am (ET):&nbsp\;&nbsp\;</span></span></span></u></strong><strong><u><span style="color:#0f0597\;"><span style="font-family:times new roman\,serif\;"><span style="font-size:11.5pt\;">Workplace Harassment</span></span></span></u></strong>&nbsp\;<span style="font-family:times new roman\,serif\;"><span style="font-size:11.5pt\;">&ndash\; Prevention is the best tool for eliminating workplace&nbsp\;harassment.&nbsp\;Harassment can occur based on any of the prohibited bases\; race\, sex&nbsp\;(including sexual orientation\, gender identity\, or pregnancy)\, religion\, national origin\, age\,&nbsp\;color\, disability\, or genetic information.&nbsp\;Learn the dos and don&rsquo\;ts in preventing and&nbsp\;correcting&nbsp\;workplace&nbsp\;harassment.</span></span></li>\n</ul>\n
LOCATION:ONLINE Webinar We will email the Zoom meeting link to you before the webinar
UID:e.2172.10743
SEQUENCE:3
DTSTAMP:20260423T162826Z
URL:https://business.roanechamber.com/events/details/eeoc-webinar-the-big-payback-can-lead-to-the-big-payout-retaliation-10743
END:VEVENT

END:VCALENDAR
