BEGIN:VCALENDAR
VERSION:2.0
PRODID:-//ChamberMaster//Event Calendar 2.0//EN
METHOD:PUBLISH
X-PUBLISHED-TTL:P3D
REFRESH-INTERVAL:P3D
CALSCALE:GREGORIAN
BEGIN:VEVENT
DTSTART:20220615T213000Z
DTEND:20220615T233000Z
X-MICROSOFT-CDO-ALLDAYEVENT:FALSE
SUMMARY:Dinner and a Movie - Smokehouse Bar & Grill
DESCRIPTION:Dinner and a Movie at the Smokehouse Bar & Grill\n\n\n\nWednesday nights are movie nights.  Each Wednesday\, we will play a family friendly film and prepare a themed dinner to go along with it!\n\n\n\n(Full menu is also available)
X-ALT-DESC;FMTTYPE=text/html:Dinner and a Movie at the Smokehouse Bar &amp\; Grill<br />\n<br />\nWednesday nights are movie nights. &nbsp\;Each Wednesday\, we will play a family friendly film and prepare a themed dinner to go along with it!<br />\n<br />\n(Full menu is also available)
LOCATION:Smokehouse Bar and Grill 708 W. Race St. Kingston\, TN 37763
UID:e.2172.10690
SEQUENCE:3
DTSTAMP:20260423T162918Z
URL:https://business.roanechamber.com/events/details/dinner-and-a-movie-smokehouse-bar-grill-06-15-2022-10690
END:VEVENT

END:VCALENDAR
