BEGIN:VCALENDAR
VERSION:2.0
PRODID:-//ChamberMaster//Event Calendar 2.0//EN
METHOD:PUBLISH
X-PUBLISHED-TTL:P3D
REFRESH-INTERVAL:P3D
CALSCALE:GREGORIAN
BEGIN:VEVENT
DTSTART;VALUE=DATE:20200801
DTEND;VALUE=DATE:20200802
TRANSP:TRANSPARENT
X-MICROSOFT-CDO-ALLDAYEVENT:TRUE
SUMMARY:Dennis Ferguson Fishing Rodeo For Kids
DESCRIPTION:Dennis Ferguson began the Fishing Rodeo for Kids in 1991 as a day to bring together the tight knit citizens of family and friends in Roane County! Over the years of this wonderful venue it has grown to be a center piece event within the community and it continues to grow this day! We are preparing for yet another year of the Fishing Rodeo currently scheduled for August 1st\, 2020! Registration and Day Schedule information will be provided as it is finalized\, please follow us on Facebook or check back here frequently as our team gathers the final elements for The Fishing Rodeo 2020!
X-ALT-DESC;FMTTYPE=text/html:Dennis Ferguson began the Fishing Rodeo for Kids in 1991 as a day to bring together the tight knit citizens of family and friends in Roane County! Over the years of this wonderful venue it has grown to be a center piece event within the community and it continues to grow this day! We are preparing for yet another year of the Fishing Rodeo currently scheduled for August 1st\, 2020! Registration and Day Schedule information will be provided as it is finalized\, please follow us on Facebook or check back here frequently as our team gathers the final elements for The Fishing Rodeo 2020!
LOCATION:Roane County Park 3515 Roane St. Hwy Harriman TN.37748
UID:e.2172.9005
SEQUENCE:3
DTSTAMP:20260425T171649Z
URL:https://business.roanechamber.com/events/details/dennis-ferguson-fishing-rodeo-for-kids-9005
END:VEVENT

END:VCALENDAR
