BEGIN:VCALENDAR
VERSION:2.0
PRODID:-//ChamberMaster//Event Calendar 2.0//EN
METHOD:PUBLISH
X-PUBLISHED-TTL:P3D
REFRESH-INTERVAL:P3D
CALSCALE:GREGORIAN
BEGIN:VEVENT
DTSTART;VALUE=DATE:20220903
DTEND;VALUE=DATE:20220904
TRANSP:TRANSPARENT
X-MICROSOFT-CDO-ALLDAYEVENT:TRUE
SUMMARY:Cruising with Jesus Presented by New Midway Baptist Church
DESCRIPTION:New Midway Baptist Church Presents Cruising with Jesus\n\n\n\nSaturday\, September 3\, 2022\n\n\n\nCome One\, Come All to enjoy a car show with food and fun for the whole family!\n\n\n\nIt's that time of year again!  Our "Cruising with Jesus" has been one of our favorite community events!  We will have classic cars\, tractors\, motorcycles\, peddle karts\, food and more!  \n\n\n\nBreakfast served at 9 am and lunch at noon!  \n\n\n\nWe hope you will join us on Saturday\, September 3rd!!
X-ALT-DESC;FMTTYPE=text/html:New Midway Baptist Church Presents Cruising with Jesus<br />\n<br />\nSaturday\, September 3\, 2022<br />\n<br />\nCome One\, Come All to enjoy a car show with food and fun for the whole family!<br />\n<br />\nIt&#39\;s that time of year again! &nbsp\;Our &quot\;Cruising with Jesus&quot\; has been one of our favorite community events! &nbsp\;We will have classic cars\, tractors\, motorcycles\, peddle karts\, food and more! &nbsp\;<br />\n<br />\nBreakfast served at 9 am and lunch at noon! &nbsp\;<br />\n<br />\nWe hope you will join us on Saturday\, September 3rd!!<br />\n<br />\n<br />\n<br />\n&nbsp\;
LOCATION:New Midway Baptist Church 240 New Midway Road Kingston\, TN 37763
UID:e.2172.11529
SEQUENCE:3
DTSTAMP:20260423T200246Z
URL:https://business.roanechamber.com/events/details/cruising-with-jesus-presented-by-new-midway-baptist-church-11529
END:VEVENT

END:VCALENDAR
