BEGIN:VCALENDAR
VERSION:2.0
PRODID:-//ChamberMaster//Event Calendar 2.0//EN
METHOD:PUBLISH
X-PUBLISHED-TTL:P3D
REFRESH-INTERVAL:P3D
CALSCALE:GREGORIAN
BEGIN:VEVENT
DTSTART:20220916T223000Z
DTEND:20220917T003000Z
X-MICROSOFT-CDO-ALLDAYEVENT:FALSE
SUMMARY:Cruella (2021) Night Plus Fashion and Fan Art Show
DESCRIPTION:Sponsored by RSCC Arts and Lectures\, this family-friendly event includes a Fashion and Fan Art Show as well as the 2021 film Cruella (PG-13)\, starring Emma Stone.\n\n\nDoors open at 5:30 and the movie starts at 6:30.\n\nConcessions available: popcorn\, candy\, chips\, and drinks ($1 and $2\, CASH only).\n\nFREE General Admission. All donations benefit future Arts and Lectures events.\n\nIf you would like to exhibit your own original designs please contact Melanie Hildebrandt hildebrandtmc@roanestate.edu.
X-ALT-DESC;FMTTYPE=text/html:<strong style="color: rgb(74\, 74\, 74)\; font-family: &quot\;Open Sans&quot\;\, sans-serif\; font-size: 15px\; border: 0px\; margin: 0px\; padding: 0px\;">Sponsored by RSCC Arts and Lectures</strong><span style="color: rgb(74\, 74\, 74)\; font-family: &quot\;Open Sans&quot\;\, sans-serif\; font-size: 15px\;">\, this family-friendly event includes a&nbsp\;</span><strong style="color: rgb(74\, 74\, 74)\; font-family: &quot\;Open Sans&quot\;\, sans-serif\; font-size: 15px\; border: 0px\; margin: 0px\; padding: 0px\;">Fashion and Fan Art Show</strong><span style="color: rgb(74\, 74\, 74)\; font-family: &quot\;Open Sans&quot\;\, sans-serif\; font-size: 15px\;">&nbsp\;as well as the 2021 film&nbsp\;</span><strong style="color: rgb(74\, 74\, 74)\; font-family: &quot\;Open Sans&quot\;\, sans-serif\; font-size: 15px\; border: 0px\; margin: 0px\; padding: 0px\;"><em style="border: 0px\; margin: 0px\; padding: 0px\;">Cruella&nbsp\;</em></strong><span style="color: rgb(74\, 74\, 74)\; font-family: &quot\;Open Sans&quot\;\, sans-serif\; font-size: 15px\;">(PG-13)\, starring Emma Stone.</span>\n<p style="border: 0px\; margin: 0px 0px 20px\; padding: 0px\; font-size: 15px\; color: rgb(74\, 74\, 74)\; font-family: &quot\;Open Sans&quot\;\, sans-serif\;"><br />\nDoors open at 5:30 and the movie starts at 6:30.</p>\n\n<p style="border: 0px\; margin: 0px 0px 20px\; padding: 0px\; font-size: 15px\; color: rgb(74\, 74\, 74)\; font-family: &quot\;Open Sans&quot\;\, sans-serif\;">Concessions available: popcorn\, candy\, chips\, and drinks ($1 and $2\, CASH only).</p>\n\n<p style="border: 0px\; margin: 0px 0px 20px\; padding: 0px\; font-size: 15px\; color: rgb(74\, 74\, 74)\; font-family: &quot\;Open Sans&quot\;\, sans-serif\;">FREE General Admission. All donations benefit future Arts and Lectures events.</p>\n\n<p style="border: 0px\; margin: 0px 0px 20px\; padding: 0px\; font-size: 15px\; color: rgb(74\, 74\, 74)\; font-family: &quot\;Open Sans&quot\;\, sans-serif\;">If you would like to exhibit your own original designs&nbsp\;please contact Melanie Hildebrandt&nbsp\;<a href="mailto:hildebrandtmc@roanestate.edu" style="border: 0px\; margin: 0px\; padding: 0px\; text-decoration: none\; color: rgb(79\, 115\, 39)\;">hildebrandtmc@roanestate.edu</a>.</p>\n
LOCATION:Princess Theatre 421 N. Roane Street Harriman\, TN 37748
UID:e.2172.11563
SEQUENCE:3
DTSTAMP:20260423T200549Z
URL:https://business.roanechamber.com/events/details/cruella-2021-night-plus-fashion-and-fan-art-show-11563
END:VEVENT

END:VCALENDAR
