BEGIN:VCALENDAR
VERSION:2.0
PRODID:-//ChamberMaster//Event Calendar 2.0//EN
METHOD:PUBLISH
X-PUBLISHED-TTL:P3D
REFRESH-INTERVAL:P3D
CALSCALE:GREGORIAN
BEGIN:VEVENT
DTSTART:20220906T160000Z
DTEND:20220906T170000Z
X-MICROSOFT-CDO-ALLDAYEVENT:FALSE
SUMMARY:Chamber Ambassador Meeting
DESCRIPTION:Ambassador Meeting
X-ALT-DESC;FMTTYPE=text/html:Ambassador Meeting
LOCATION:The Roane Alliance 1209 N. Kentucky Street Kingston\, TN 37763
UID:e.2172.11239
SEQUENCE:3
DTSTAMP:20260423T195932Z
URL:https://business.roanechamber.com/events/details/chamber-ambassador-meeting-11239
END:VEVENT

END:VCALENDAR
