BEGIN:VCALENDAR
VERSION:2.0
PRODID:-//ChamberMaster//Event Calendar 2.0//EN
METHOD:PUBLISH
X-PUBLISHED-TTL:P3D
REFRESH-INTERVAL:P3D
CALSCALE:GREGORIAN
BEGIN:VEVENT
DTSTART:20221019T170000Z
DTEND:20221019T183000Z
X-MICROSOFT-CDO-ALLDAYEVENT:FALSE
SUMMARY:BINGO for Roane County Seniors
DESCRIPTION:Come on out for BINGO Roane County Seniors! - Mid-East Community Action Agency\n\n\n\nWe currently have 3 games for you to choose from.  You can come to one or all each month.  \n\n\n\nDates and times are as follows:\n\n\n\nROCKWOOD COMMUNITY CENTER\n\n1st and 3rd Wednesdays from 1:00 pm - 2:30 pm\n\n\n\nKINGSTON OMMUNITY CENTER\n\n4th Tuesday of each month from 1:00 pm - 2:30 pm\n\nFRIENDS\, SNACKS\, DOOR PRIZES AND BINGO!
X-ALT-DESC;FMTTYPE=text/html:Come on out for BINGO Roane County Seniors! - Mid-East Community Action Agency<br />\n<br />\nWe currently have 3 games for you to choose from. &nbsp\;You can come to one or all each month. &nbsp\;<br />\n<br />\nDates and times are as follows:<br />\n<br />\nROCKWOOD COMMUNITY CENTER<br />\n1st and 3rd Wednesdays from 1:00 pm - 2:30 pm<br />\n<br />\nKINGSTON OMMUNITY CENTER<br />\n4th Tuesday of each month from 1:00 pm - 2:30 pm<br />\nFRIENDS\, SNACKS\, DOOR PRIZES AND BINGO!
LOCATION:ROCKWOOD COMMUNITY CENTER 710 N. Chamberlain Ave. Rockwood\, TN 37854 KINGSTON OMMUNITY CENTER 201 Patton Ferry Road Kingston\, TN 37763
UID:e.2172.12718
SEQUENCE:3
DTSTAMP:20260423T232041Z
URL:https://business.roanechamber.com/events/details/bingo-for-roane-county-seniors-12718
END:VEVENT

END:VCALENDAR
